BEGIN:VCALENDAR
VERSION:2.0
PRODID:-//Shade Mountain Winery - ECPv6.15.20//NONSGML v1.0//EN
CALSCALE:GREGORIAN
METHOD:PUBLISH
X-ORIGINAL-URL:https://shademountainwinery.com
X-WR-CALDESC:Events for Shade Mountain Winery
REFRESH-INTERVAL;VALUE=DURATION:PT1H
X-Robots-Tag:noindex
X-PUBLISHED-TTL:PT1H
BEGIN:VTIMEZONE
TZID:America/New_York
BEGIN:DAYLIGHT
TZOFFSETFROM:-0500
TZOFFSETTO:-0400
TZNAME:EDT
DTSTART:20200308T070000
END:DAYLIGHT
BEGIN:STANDARD
TZOFFSETFROM:-0400
TZOFFSETTO:-0500
TZNAME:EST
DTSTART:20201101T060000
END:STANDARD
BEGIN:DAYLIGHT
TZOFFSETFROM:-0500
TZOFFSETTO:-0400
TZNAME:EDT
DTSTART:20210314T070000
END:DAYLIGHT
BEGIN:STANDARD
TZOFFSETFROM:-0400
TZOFFSETTO:-0500
TZNAME:EST
DTSTART:20211107T060000
END:STANDARD
BEGIN:DAYLIGHT
TZOFFSETFROM:-0500
TZOFFSETTO:-0400
TZNAME:EDT
DTSTART:20220313T070000
END:DAYLIGHT
BEGIN:STANDARD
TZOFFSETFROM:-0400
TZOFFSETTO:-0500
TZNAME:EST
DTSTART:20221106T060000
END:STANDARD
END:VTIMEZONE
BEGIN:VEVENT
DTSTART;TZID=America/New_York:20210508T100000
DTEND;TZID=America/New_York:20210508T170000
DTSTAMP:20260425T032454
CREATED:20210202T143421Z
LAST-MODIFIED:20210202T143421Z
UID:3041-1620468000-1620493200@shademountainwinery.com
SUMMARY:Mother's Day Food\, Music & Mimosas!
DESCRIPTION:On Saturday\, May 8th\, take good care of Mom on her special day….stop by our winery in Middleburg w/ Mom on your arm….order her a MIMOSAS (featuring our sparkling wines: Three Witches Sparkling White\, Cool Duck\, Sparkling Apple & Ginger Owl)!  We will also be offering Mimosa Flights for $10! It’s a great way to sample 5 different sparkling cocktails!\n**Please note: We will have Mimosas available at our Riverside/Danville store as well! For those who live east of the winery\, feel free to show Mom love in Riverside/Danville as well!!:)\nAlong with Mimosas\, treat Mom to Ard’s Farm Market’s fine food….they will have chicken and pork tacos\, mini charcuterie boards and spinach and crab tip…..all are delightful dishes to suit Mom’s fancy:)\nWe will have crowd-favorite\, TL & Kj on hand providing fabulous tunes to make it an extra special day for Mom (1:00-3:30pm)! They are a favorite here SMW\, and it warms our hearts to have them here again! \nFor this event because of limited seating capacity (due to COVID19 restrictions)\, we are requiring patrons to call the Winery and reserve tables in advance of the performance (570-837-3644). Patrons can reserve tables for a 2-hour time frame beginning at 12:00pm (12:00-2:00pm)\, and then again at 2:15pm (2:15-4:15pm). We will clean and sanitize per CDC guidelines. \nShow Mom love….through libations this year:) Hope to see you there!
URL:https://shademountainwinery.com/event/mothers-day-food-music-mimosas
LOCATION:PA
END:VEVENT
END:VCALENDAR