BEGIN:VCALENDAR
VERSION:2.0
PRODID:-//Shade Mountain Winery - ECPv6.15.20//NONSGML v1.0//EN
CALSCALE:GREGORIAN
METHOD:PUBLISH
X-WR-CALNAME:Shade Mountain Winery
X-ORIGINAL-URL:https://shademountainwinery.com
X-WR-CALDESC:Events for Shade Mountain Winery
REFRESH-INTERVAL;VALUE=DURATION:PT1H
X-Robots-Tag:noindex
X-PUBLISHED-TTL:PT1H
BEGIN:VTIMEZONE
TZID:America/New_York
BEGIN:DAYLIGHT
TZOFFSETFROM:-0500
TZOFFSETTO:-0400
TZNAME:EDT
DTSTART:20200308T070000
END:DAYLIGHT
BEGIN:STANDARD
TZOFFSETFROM:-0400
TZOFFSETTO:-0500
TZNAME:EST
DTSTART:20201101T060000
END:STANDARD
BEGIN:DAYLIGHT
TZOFFSETFROM:-0500
TZOFFSETTO:-0400
TZNAME:EDT
DTSTART:20210314T070000
END:DAYLIGHT
BEGIN:STANDARD
TZOFFSETFROM:-0400
TZOFFSETTO:-0500
TZNAME:EST
DTSTART:20211107T060000
END:STANDARD
BEGIN:DAYLIGHT
TZOFFSETFROM:-0500
TZOFFSETTO:-0400
TZNAME:EDT
DTSTART:20220313T070000
END:DAYLIGHT
BEGIN:STANDARD
TZOFFSETFROM:-0400
TZOFFSETTO:-0500
TZNAME:EST
DTSTART:20221106T060000
END:STANDARD
END:VTIMEZONE
BEGIN:VEVENT
DTSTART;TZID=America/New_York:20210725T110000
DTEND;TZID=America/New_York:20210725T120000
DTSTAMP:20260424T234857
CREATED:20210618T160103Z
LAST-MODIFIED:20210618T160103Z
UID:3056-1627210800-1627214400@shademountainwinery.com
SUMMARY:Yoga in the Vines
DESCRIPTION:Given this past year of ups and downs\, we all could use some inner peace and enlightenment?!;) To provide respite and rejuvenation\, we are teaming up with Johanna Kodlick\, of Lizard Toes Yoga\, to offer a morning of YOGA in the VINES!\nJohanna will be working her magic behind the winery where there is plenty of green\, safe space! The class will start at 11:00 and finish up at12:00pm.\nPLEASE STOP IN AT THE WINERY TO CHECK IN PRIOR TO 11:00AM. Upon conclusion of the class\, continuing the relaxation process in another manner-venture up to the Winery for a glass of any wine your heart desires. You can also reserve a table for our SUNDAY FUNDAY of which we will feature local live entertainment and a food truck. Please see more info about this event in our event listings on FB and our website! Reservations ARE required.\nThe cost of this event for this event is $15 and includes-Yoga instruction\, glass of wine at SMW.\nWe will adhere to current CDC guidelines for social distancing and mask wearing.\nTickets can be purchased online. \nhttps://shademountainwinery.yapsody.com/event/index/665231/yoga-in-the-vines
URL:https://shademountainwinery.com/event/yoga-in-the-vines
LOCATION:PA
END:VEVENT
BEGIN:VEVENT
DTSTART;TZID=America/New_York:20210725T140000
DTEND;TZID=America/New_York:20210725T160000
DTSTAMP:20260424T234857
CREATED:20210629T134507Z
LAST-MODIFIED:20210629T134507Z
UID:3057-1627221600-1627228800@shademountainwinery.com
SUMMARY:Wine and Paint in Riverside!
DESCRIPTION:Follow along with Gail Fox\, our local\, talented and friendly artist as she teaches you the fine art of canvas painting! Paint this love Sunset piece all the while enjoying a glass of your fave SM wine!\nThe class kicks off at 2:00pm…..price is $30/person and is worth every penny!  Call the Riverside location to secure your spot:  570-284-4311. \nGrab your friends\, motor over to Riverside and enjoy an afternoon of wine\, painting & laughs;) Hope to see you there! \n 
URL:https://shademountainwinery.com/event/wine-and-art-in-riverside-8
LOCATION:PA
END:VEVENT
END:VCALENDAR