BEGIN:VCALENDAR
VERSION:2.0
PRODID:-//Shade Mountain Winery - ECPv6.15.20//NONSGML v1.0//EN
CALSCALE:GREGORIAN
METHOD:PUBLISH
X-WR-CALNAME:Shade Mountain Winery
X-ORIGINAL-URL:https://shademountainwinery.com
X-WR-CALDESC:Events for Shade Mountain Winery
REFRESH-INTERVAL;VALUE=DURATION:PT1H
X-Robots-Tag:noindex
X-PUBLISHED-TTL:PT1H
BEGIN:VTIMEZONE
TZID:America/New_York
BEGIN:DAYLIGHT
TZOFFSETFROM:-0500
TZOFFSETTO:-0400
TZNAME:EDT
DTSTART:20210314T070000
END:DAYLIGHT
BEGIN:STANDARD
TZOFFSETFROM:-0400
TZOFFSETTO:-0500
TZNAME:EST
DTSTART:20211107T060000
END:STANDARD
BEGIN:DAYLIGHT
TZOFFSETFROM:-0500
TZOFFSETTO:-0400
TZNAME:EDT
DTSTART:20220313T070000
END:DAYLIGHT
BEGIN:STANDARD
TZOFFSETFROM:-0400
TZOFFSETTO:-0500
TZNAME:EST
DTSTART:20221106T060000
END:STANDARD
BEGIN:DAYLIGHT
TZOFFSETFROM:-0500
TZOFFSETTO:-0400
TZNAME:EDT
DTSTART:20230312T070000
END:DAYLIGHT
BEGIN:STANDARD
TZOFFSETFROM:-0400
TZOFFSETTO:-0500
TZNAME:EST
DTSTART:20231105T060000
END:STANDARD
END:VTIMEZONE
BEGIN:VEVENT
DTSTART;TZID=America/New_York:20220924T100000
DTEND;TZID=America/New_York:20220924T163000
DTSTAMP:20260423T235257
CREATED:20220715T153221Z
LAST-MODIFIED:20220715T153221Z
UID:3511-1664013600-1664037000@shademountainwinery.com
SUMMARY:Fall Trail:  Explore Route 104
DESCRIPTION:On Saturday September 24th\, make your way down and around Route 104 in Snyder County and visit the following businesses for discounts and prizes: Shade Mountain Winery & Vineyards\, The Olde Loft and Weirick’s Primitives. Make sure you pick up a ticket listing all participating businesses so that you can get it signed (at each location)! Hand in the completed ticket to be entered into a prize raffle!\nTo make this day extra special\, here at Shade Mountain\, when you make a purchase and you have a ticket\, you will receive a coupon to be used at a later date! We will also be featuring some fun & fabulous wine drinks and slushies that can be taken TOGO or enjoyed here on site!\nRemember to always SHOP LOCAL….and support small businesses as you make your way around Route 104!!
URL:https://shademountainwinery.com/event/fall-trail-explore-route-104-3
LOCATION:PA
END:VEVENT
END:VCALENDAR