BEGIN:VCALENDAR
VERSION:2.0
PRODID:-//Shade Mountain Winery - ECPv6.15.20//NONSGML v1.0//EN
CALSCALE:GREGORIAN
METHOD:PUBLISH
X-ORIGINAL-URL:https://shademountainwinery.com
X-WR-CALDESC:Events for Shade Mountain Winery
REFRESH-INTERVAL;VALUE=DURATION:PT1H
X-Robots-Tag:noindex
X-PUBLISHED-TTL:PT1H
BEGIN:VTIMEZONE
TZID:America/New_York
BEGIN:DAYLIGHT
TZOFFSETFROM:-0500
TZOFFSETTO:-0400
TZNAME:EDT
DTSTART:20220313T070000
END:DAYLIGHT
BEGIN:STANDARD
TZOFFSETFROM:-0400
TZOFFSETTO:-0500
TZNAME:EST
DTSTART:20221106T060000
END:STANDARD
BEGIN:DAYLIGHT
TZOFFSETFROM:-0500
TZOFFSETTO:-0400
TZNAME:EDT
DTSTART:20230312T070000
END:DAYLIGHT
BEGIN:STANDARD
TZOFFSETFROM:-0400
TZOFFSETTO:-0500
TZNAME:EST
DTSTART:20231105T060000
END:STANDARD
BEGIN:DAYLIGHT
TZOFFSETFROM:-0500
TZOFFSETTO:-0400
TZNAME:EDT
DTSTART:20240310T070000
END:DAYLIGHT
BEGIN:STANDARD
TZOFFSETFROM:-0400
TZOFFSETTO:-0500
TZNAME:EST
DTSTART:20241103T060000
END:STANDARD
END:VTIMEZONE
BEGIN:VEVENT
DTSTART;TZID=America/New_York:20230129T133000
DTEND;TZID=America/New_York:20230129T150000
DTSTAMP:20260423T113801
CREATED:20230109T201618Z
LAST-MODIFIED:20230109T201618Z
UID:3567-1674999000-1675004400@shademountainwinery.com
SUMMARY:A Better Me in 2023 @ Shade Mtn Winery in Middleburg
DESCRIPTION:“A BETTER ME “ in 2023\nDe-Stress and Refresh with Cindy!\nTAKE time out to laugh\, learn\, and “wine” a little! Cindy has worked in many areas of health and wellness over THE PAST 25+ YEARS. She enjoys inspiring WOMEN of all ages and will be sharing techniques and methods to improve one’s wellbeing while unleashing humor and hands on instruction for self care and relaxation.\nJOIN US FOR AN afternoon OF fun to renew for a better you!\nVisit the Shade Mountain Winery\nSunday\, January 29 … 1:30 to 3:00pm\nRegister by texting or calling Cindy at 570-850-6836 … register by Jan 26\n$15.00 per person- (Includes a glass of wine and small personal gift)\n*You will be contacted if poor weather conditions cause this event to be cancelled.
URL:https://shademountainwinery.com/event/a-better-me-in-2023-shade-mtn-winery-in-middleburg
LOCATION:PA
END:VEVENT
END:VCALENDAR