BEGIN:VCALENDAR
VERSION:2.0
PRODID:-//Shade Mountain Winery - ECPv6.15.20//NONSGML v1.0//EN
CALSCALE:GREGORIAN
METHOD:PUBLISH
X-ORIGINAL-URL:https://shademountainwinery.com
X-WR-CALDESC:Events for Shade Mountain Winery
REFRESH-INTERVAL;VALUE=DURATION:PT1H
X-Robots-Tag:noindex
X-PUBLISHED-TTL:PT1H
BEGIN:VTIMEZONE
TZID:America/New_York
BEGIN:DAYLIGHT
TZOFFSETFROM:-0500
TZOFFSETTO:-0400
TZNAME:EDT
DTSTART:20220313T070000
END:DAYLIGHT
BEGIN:STANDARD
TZOFFSETFROM:-0400
TZOFFSETTO:-0500
TZNAME:EST
DTSTART:20221106T060000
END:STANDARD
BEGIN:DAYLIGHT
TZOFFSETFROM:-0500
TZOFFSETTO:-0400
TZNAME:EDT
DTSTART:20230312T070000
END:DAYLIGHT
BEGIN:STANDARD
TZOFFSETFROM:-0400
TZOFFSETTO:-0500
TZNAME:EST
DTSTART:20231105T060000
END:STANDARD
BEGIN:DAYLIGHT
TZOFFSETFROM:-0500
TZOFFSETTO:-0400
TZNAME:EDT
DTSTART:20240310T070000
END:DAYLIGHT
BEGIN:STANDARD
TZOFFSETFROM:-0400
TZOFFSETTO:-0500
TZNAME:EST
DTSTART:20241103T060000
END:STANDARD
END:VTIMEZONE
BEGIN:VEVENT
DTSTART;TZID=America/New_York:20230205T130000
DTEND;TZID=America/New_York:20230205T150000
DTSTAMP:20260423T113924
CREATED:20230112T132715Z
LAST-MODIFIED:20230112T132715Z
UID:3570-1675602000-1675609200@shademountainwinery.com
SUMMARY:Mediterranean Charcuterie Board Workshop @ SMW
DESCRIPTION:Whether you’re hosting a crowd for the big game\, enjoying a cozy night in or looking for a super-fast way to feed your family\, charcuterie boards are where it’s at! \nJoin local registered dietitian nutritionist\, Beth Stark\, RDN\, LDN on Sunday\, February 5th at 1 pm to learn how to build a vibrant Mediterranean-style charcuterie board that’s full of irresistible flavors\, pleasing textures and healthful nutrients. Of course\, we will explore the best wines to pair with a charcuterie board too! \nAs part of this fun and interactive workshop\, guests will get to create their own\, personal-sized charcuterie board using an array of ingredients and applying the tips and tricks shared by our workshop host. One lucky winner will also take home a Farmer’s Favorite Gift Box\, provided by our partner\, Cabot Creamery. \nCost of ticket is $25 and includes a glass of wine from Shade Mountain’s collection of Blush/Rose wines\, charcuterie board ingredients\, and a relaxing afternoon in a beautiful setting overlooking Shade Mountain vineyards. Spots are limited! Get your tickets by February 1st online here or call the winery at 570-837-3644.
URL:https://shademountainwinery.com/event/mediterranean-charcuterie-board-workshop-smw
LOCATION:PA
ATTACH;FMTTYPE=:
END:VEVENT
END:VCALENDAR