BEGIN:VCALENDAR
VERSION:2.0
PRODID:-//Shade Mountain Winery - ECPv6.15.20//NONSGML v1.0//EN
CALSCALE:GREGORIAN
METHOD:PUBLISH
X-WR-CALNAME:Shade Mountain Winery
X-ORIGINAL-URL:https://shademountainwinery.com
X-WR-CALDESC:Events for Shade Mountain Winery
REFRESH-INTERVAL;VALUE=DURATION:PT1H
X-Robots-Tag:noindex
X-PUBLISHED-TTL:PT1H
BEGIN:VTIMEZONE
TZID:America/New_York
BEGIN:DAYLIGHT
TZOFFSETFROM:-0500
TZOFFSETTO:-0400
TZNAME:EDT
DTSTART:20220313T070000
END:DAYLIGHT
BEGIN:STANDARD
TZOFFSETFROM:-0400
TZOFFSETTO:-0500
TZNAME:EST
DTSTART:20221106T060000
END:STANDARD
BEGIN:DAYLIGHT
TZOFFSETFROM:-0500
TZOFFSETTO:-0400
TZNAME:EDT
DTSTART:20230312T070000
END:DAYLIGHT
BEGIN:STANDARD
TZOFFSETFROM:-0400
TZOFFSETTO:-0500
TZNAME:EST
DTSTART:20231105T060000
END:STANDARD
BEGIN:DAYLIGHT
TZOFFSETFROM:-0500
TZOFFSETTO:-0400
TZNAME:EDT
DTSTART:20240310T070000
END:DAYLIGHT
BEGIN:STANDARD
TZOFFSETFROM:-0400
TZOFFSETTO:-0500
TZNAME:EST
DTSTART:20241103T060000
END:STANDARD
END:VTIMEZONE
BEGIN:VEVENT
DTSTART;TZID=America/New_York:20230219T120000
DTEND;TZID=America/New_York:20230219T160000
DTSTAMP:20260423T113735
CREATED:20220118T133216Z
LAST-MODIFIED:20220118T133216Z
UID:3364-1676808000-1676822400@shademountainwinery.com
SUMMARY:Wine & Whoopie Pie Flights at the Vineyard!
DESCRIPTION:Stop by the Winery in Middleburg for Whoopie Pie & Wine Flights! We will be pairing 5 of our wines with 5 fabulous Whoopie Pies made locally at Heimbach’s Country Store. The cost of the flight is $15 and reservations are not required.\nWe will also have plenty of gift baskets and other gift options to shower your beloved with…..and you can always fall back on wine\, as nothing says love like SMW Wine!
URL:https://shademountainwinery.com/event/wine-whoopie-pie-flights-at-the-vineyard
LOCATION:PA
END:VEVENT
END:VCALENDAR