BEGIN:VCALENDAR
VERSION:2.0
PRODID:-//Shade Mountain Winery - ECPv6.15.20//NONSGML v1.0//EN
CALSCALE:GREGORIAN
METHOD:PUBLISH
X-ORIGINAL-URL:https://shademountainwinery.com
X-WR-CALDESC:Events for Shade Mountain Winery
REFRESH-INTERVAL;VALUE=DURATION:PT1H
X-Robots-Tag:noindex
X-PUBLISHED-TTL:PT1H
BEGIN:VTIMEZONE
TZID:America/New_York
BEGIN:DAYLIGHT
TZOFFSETFROM:-0500
TZOFFSETTO:-0400
TZNAME:EDT
DTSTART:20220313T070000
END:DAYLIGHT
BEGIN:STANDARD
TZOFFSETFROM:-0400
TZOFFSETTO:-0500
TZNAME:EST
DTSTART:20221106T060000
END:STANDARD
BEGIN:DAYLIGHT
TZOFFSETFROM:-0500
TZOFFSETTO:-0400
TZNAME:EDT
DTSTART:20230312T070000
END:DAYLIGHT
BEGIN:STANDARD
TZOFFSETFROM:-0400
TZOFFSETTO:-0500
TZNAME:EST
DTSTART:20231105T060000
END:STANDARD
BEGIN:DAYLIGHT
TZOFFSETFROM:-0500
TZOFFSETTO:-0400
TZNAME:EDT
DTSTART:20240310T070000
END:DAYLIGHT
BEGIN:STANDARD
TZOFFSETFROM:-0400
TZOFFSETTO:-0500
TZNAME:EST
DTSTART:20241103T060000
END:STANDARD
END:VTIMEZONE
BEGIN:VEVENT
DTSTART;TZID=America/New_York:20230226T130000
DTEND;TZID=America/New_York:20230226T150000
DTSTAMP:20260423T100703
CREATED:20230113T092843Z
LAST-MODIFIED:20230113T092843Z
UID:3577-1677416400-1677423600@shademountainwinery.com
SUMMARY:Succulents & Floral Workshop w/ The Greensmith @ SMW
DESCRIPTION:Join The Greensmith team at Shade Mountain Winery for a unique ‘Wine and Design’ experience. Workshop attendees will create a Wine Bottle Adornment featuring fresh and dried florals\, as well as living succulents. We will provide all of the tools and materials for crafting this design\, but would encourage those that have glue guns to bring your own. \nThe cost of the class is $35/person and includes tools and materials and a glass of SMW wine of your liking!  It begins at 1:00pm so be and ready to craft at that time! \nThese adornments make fabulous hostess gifts for the wine lover! The recipient of this unique gift can remove the succulents for planting after enjoying the adornment. \nTickets can be purchased online here or by calling the winery in Middleburg:  570-837-3644. \nWe hope you will join us for a fabulous afternoon of wine and whimsy!
URL:https://shademountainwinery.com/event/succulents-floral-workshop-w-the-greensmith-smw
LOCATION:PA
END:VEVENT
END:VCALENDAR