BEGIN:VCALENDAR
VERSION:2.0
PRODID:-//Shade Mountain Winery - ECPv6.15.20//NONSGML v1.0//EN
CALSCALE:GREGORIAN
METHOD:PUBLISH
X-ORIGINAL-URL:https://shademountainwinery.com
X-WR-CALDESC:Events for Shade Mountain Winery
REFRESH-INTERVAL;VALUE=DURATION:PT1H
X-Robots-Tag:noindex
X-PUBLISHED-TTL:PT1H
BEGIN:VTIMEZONE
TZID:America/New_York
BEGIN:DAYLIGHT
TZOFFSETFROM:-0500
TZOFFSETTO:-0400
TZNAME:EDT
DTSTART:20220313T070000
END:DAYLIGHT
BEGIN:STANDARD
TZOFFSETFROM:-0400
TZOFFSETTO:-0500
TZNAME:EST
DTSTART:20221106T060000
END:STANDARD
BEGIN:DAYLIGHT
TZOFFSETFROM:-0500
TZOFFSETTO:-0400
TZNAME:EDT
DTSTART:20230312T070000
END:DAYLIGHT
BEGIN:STANDARD
TZOFFSETFROM:-0400
TZOFFSETTO:-0500
TZNAME:EST
DTSTART:20231105T060000
END:STANDARD
BEGIN:DAYLIGHT
TZOFFSETFROM:-0500
TZOFFSETTO:-0400
TZNAME:EDT
DTSTART:20240310T070000
END:DAYLIGHT
BEGIN:STANDARD
TZOFFSETFROM:-0400
TZOFFSETTO:-0500
TZNAME:EST
DTSTART:20241103T060000
END:STANDARD
END:VTIMEZONE
BEGIN:VEVENT
DTSTART;TZID=America/New_York:20230311T100000
DTEND;TZID=America/New_York:20230311T170000
DTSTAMP:20260423T100707
CREATED:20230224T114322Z
LAST-MODIFIED:20230224T114322Z
UID:3651-1678528800-1678554000@shademountainwinery.com
SUMMARY:Girl Scout Cookie Flights at SMW Winery in Middleburg & Riverside!
DESCRIPTION:At both our Winery in Middleburg and our location in Riverside/Danville\, join us on Saturday\, March 11th\, for Girl Scout Cookie Flights! We will be pairing 5 of our wines with 5 fabulous Girl Scout Cookies! The pairings will be as follows:\nTrefoils ~ Three Witches Sparkling White Wine (semi-sweet)\nSamoas ~ Pineapple Wine (sweet)\nTagalongs ~ Jack’s Mountain Red (concord-sweet)\nThin Mints ~ Keelboat Red (semi-sweet)\nLemonades ~ Hard Raspberry Seltzer (sweet & effervescent)\nThe cost of the flight is $15. Stop by at either the Winery in Middleburg or our location in Riverside/Danville to enjoy this delightful flight while supplies last!\nSupport our Girls Scouts and a local business!
URL:https://shademountainwinery.com/event/girl-scout-cookie-flights-at-smw-winery-in-middleburg
LOCATION:PA
END:VEVENT
END:VCALENDAR