BEGIN:VCALENDAR
VERSION:2.0
PRODID:-//Shade Mountain Winery - ECPv6.15.20//NONSGML v1.0//EN
CALSCALE:GREGORIAN
METHOD:PUBLISH
X-WR-CALNAME:Shade Mountain Winery
X-ORIGINAL-URL:https://shademountainwinery.com
X-WR-CALDESC:Events for Shade Mountain Winery
REFRESH-INTERVAL;VALUE=DURATION:PT1H
X-Robots-Tag:noindex
X-PUBLISHED-TTL:PT1H
BEGIN:VTIMEZONE
TZID:America/New_York
BEGIN:DAYLIGHT
TZOFFSETFROM:-0500
TZOFFSETTO:-0400
TZNAME:EDT
DTSTART:20220313T070000
END:DAYLIGHT
BEGIN:STANDARD
TZOFFSETFROM:-0400
TZOFFSETTO:-0500
TZNAME:EST
DTSTART:20221106T060000
END:STANDARD
BEGIN:DAYLIGHT
TZOFFSETFROM:-0500
TZOFFSETTO:-0400
TZNAME:EDT
DTSTART:20230312T070000
END:DAYLIGHT
BEGIN:STANDARD
TZOFFSETFROM:-0400
TZOFFSETTO:-0500
TZNAME:EST
DTSTART:20231105T060000
END:STANDARD
BEGIN:DAYLIGHT
TZOFFSETFROM:-0500
TZOFFSETTO:-0400
TZNAME:EDT
DTSTART:20240310T070000
END:DAYLIGHT
BEGIN:STANDARD
TZOFFSETFROM:-0400
TZOFFSETTO:-0500
TZNAME:EST
DTSTART:20241103T060000
END:STANDARD
END:VTIMEZONE
BEGIN:VEVENT
DTSTART;TZID=America/New_York:20230723T120000
DTEND;TZID=America/New_York:20230723T163000
DTSTAMP:20260423T022011
CREATED:20210223T150308Z
LAST-MODIFIED:20210223T150308Z
UID:3049-1690113600-1690129800@shademountainwinery.com
SUMMARY:Sunday Funday at SMW!
DESCRIPTION:Stop by the winery for our another of our Sunday Fundays!! Mark Alexander will be performing some fantastic tunes here at the winery from 1:00-3:00pm.\nWe will have SHANE’S SANDWICH SHACK AND SNACK’S on-site offering an assortment of delectable dishes that can be consumed on-site or for take out. So feel free to fill your stomachs while enjoying the performance\, or take food with you to enjoy at home!\nGrab your friends and head on over to the winery….we will have wine chilling and ready for purchase! We will also have wine flights available\, where you can select your own 5 wine samples for a fee.\nIn the case of inclement weather\, we will move Mark inside into our event room. Stay tuned for any updates!\nHope to see you in the sun on Sunday\, July 23rd!
URL:https://shademountainwinery.com/event/sunday-funday-at-smw-7
LOCATION:PA
END:VEVENT
END:VCALENDAR