BEGIN:VCALENDAR
VERSION:2.0
PRODID:-//Shade Mountain Winery - ECPv6.15.20//NONSGML v1.0//EN
CALSCALE:GREGORIAN
METHOD:PUBLISH
X-ORIGINAL-URL:https://shademountainwinery.com
X-WR-CALDESC:Events for Shade Mountain Winery
REFRESH-INTERVAL;VALUE=DURATION:PT1H
X-Robots-Tag:noindex
X-PUBLISHED-TTL:PT1H
BEGIN:VTIMEZONE
TZID:America/New_York
BEGIN:DAYLIGHT
TZOFFSETFROM:-0500
TZOFFSETTO:-0400
TZNAME:EDT
DTSTART:20220313T070000
END:DAYLIGHT
BEGIN:STANDARD
TZOFFSETFROM:-0400
TZOFFSETTO:-0500
TZNAME:EST
DTSTART:20221106T060000
END:STANDARD
BEGIN:DAYLIGHT
TZOFFSETFROM:-0500
TZOFFSETTO:-0400
TZNAME:EDT
DTSTART:20230312T070000
END:DAYLIGHT
BEGIN:STANDARD
TZOFFSETFROM:-0400
TZOFFSETTO:-0500
TZNAME:EST
DTSTART:20231105T060000
END:STANDARD
BEGIN:DAYLIGHT
TZOFFSETFROM:-0500
TZOFFSETTO:-0400
TZNAME:EDT
DTSTART:20240310T070000
END:DAYLIGHT
BEGIN:STANDARD
TZOFFSETFROM:-0400
TZOFFSETTO:-0500
TZNAME:EST
DTSTART:20241103T060000
END:STANDARD
END:VTIMEZONE
BEGIN:VEVENT
DTSTART;TZID=America/New_York:20230820T120000
DTEND;TZID=America/New_York:20230820T163000
DTSTAMP:20260423T003856
CREATED:20210215T114823Z
LAST-MODIFIED:20210215T114823Z
UID:3046-1692532800-1692549000@shademountainwinery.com
SUMMARY:Sunday Funday at SMW
DESCRIPTION:Stop by the winery for our FINAL Sunday Funday of the season!! TRAINWRECK SURVIVORS will be performing some fantastic tunes here at the winery from 1:00-3:00pm.\nWe will have the ARD’S ICE CREAM TRUCK Truck on-site offering an assortment of delectable ice cream dishes (to help keep you cool!) that can be consumed on-site or for take out. So feel free to fill your stomachs while enjoying the performance\, or take these desserts with you to enjoy at home!\nGrab your friends and head on over to the winery….we will have wine chilling and ready for purchase! We will also have wine flights available\, where you can select your own 5 wine samples for a fee.\nIn the case of inclement weather\, we will move The TRAINWRECK SURVIVORS inside into our event room. Stay tuned for any updates!\nHope to see you in the sun on Sunday\, August 20th
URL:https://shademountainwinery.com/event/sunday-funday-at-smw-4
LOCATION:PA
END:VEVENT
END:VCALENDAR