BEGIN:VCALENDAR
VERSION:2.0
PRODID:-//Shade Mountain Winery - ECPv6.15.20//NONSGML v1.0//EN
CALSCALE:GREGORIAN
METHOD:PUBLISH
X-WR-CALNAME:Shade Mountain Winery
X-ORIGINAL-URL:https://shademountainwinery.com
X-WR-CALDESC:Events for Shade Mountain Winery
REFRESH-INTERVAL;VALUE=DURATION:PT1H
X-Robots-Tag:noindex
X-PUBLISHED-TTL:PT1H
BEGIN:VTIMEZONE
TZID:America/New_York
BEGIN:DAYLIGHT
TZOFFSETFROM:-0500
TZOFFSETTO:-0400
TZNAME:EDT
DTSTART:20220313T070000
END:DAYLIGHT
BEGIN:STANDARD
TZOFFSETFROM:-0400
TZOFFSETTO:-0500
TZNAME:EST
DTSTART:20221106T060000
END:STANDARD
BEGIN:DAYLIGHT
TZOFFSETFROM:-0500
TZOFFSETTO:-0400
TZNAME:EDT
DTSTART:20230312T070000
END:DAYLIGHT
BEGIN:STANDARD
TZOFFSETFROM:-0400
TZOFFSETTO:-0500
TZNAME:EST
DTSTART:20231105T060000
END:STANDARD
BEGIN:DAYLIGHT
TZOFFSETFROM:-0500
TZOFFSETTO:-0400
TZNAME:EDT
DTSTART:20240310T070000
END:DAYLIGHT
BEGIN:STANDARD
TZOFFSETFROM:-0400
TZOFFSETTO:-0500
TZNAME:EST
DTSTART:20241103T060000
END:STANDARD
END:VTIMEZONE
BEGIN:VEVENT
DTSTART;TZID=America/New_York:20231015T120000
DTEND;TZID=America/New_York:20231015T170000
DTSTAMP:20260422T231050
CREATED:20210825T114713Z
LAST-MODIFIED:20210825T114713Z
UID:3062-1697371200-1697389200@shademountainwinery.com
SUMMARY:Annual Harvest Festival-Sunday Funday!
DESCRIPTION:Join us for our second day of our Annual Harvest Festival!\nTo make it a SUNDAY FUNDAY\, will have Kimbo & Bryan performing on the deck from 1:00-3:00pm. To add to the FUN\, we will have the Real Taste (Mexican Cuisine) Food Truck on-site offering fabulous food (for a fee)!\nWe are keeping it local today! Wonderful wine + Marvelous Music + Fantastic Food = Sunday Funday for sure!!\nGrab your friends and head on over to the winery….we will have wine chilling and ready for purchase! We will also have wine flights available\, where you can select your own 5 wine samples for $10.\nIn the event of rain/storms\, we will move the entertainment inside to our back room. Stay tuned for any updates!\nHope to see you in the sun on Sunday\, October 15th!
URL:https://shademountainwinery.com/event/annual-harvest-festival-sunday-funday
LOCATION:PA
END:VEVENT
END:VCALENDAR