BEGIN:VCALENDAR
VERSION:2.0
PRODID:-//Shade Mountain Winery - ECPv6.15.17.1//NONSGML v1.0//EN
CALSCALE:GREGORIAN
METHOD:PUBLISH
X-ORIGINAL-URL:https://shademountainwinery.com
X-WR-CALDESC:Events for Shade Mountain Winery
REFRESH-INTERVAL;VALUE=DURATION:PT1H
X-Robots-Tag:noindex
X-PUBLISHED-TTL:PT1H
BEGIN:VTIMEZONE
TZID:UTC
BEGIN:STANDARD
TZOFFSETFROM:+0000
TZOFFSETTO:+0000
TZNAME:UTC
DTSTART:20220101T000000
END:STANDARD
END:VTIMEZONE
BEGIN:VEVENT
DTSTART;TZID=UTC:20231029T130000
DTEND;TZID=UTC:20231029T150000
DTSTAMP:20260422T171352
CREATED:20230929T154941Z
LAST-MODIFIED:20230929T154941Z
UID:4687-1698584400-1698591600@shademountainwinery.com
SUMMARY:Wooden Barn Star Quilt Pattern Workshop @ SMW
DESCRIPTION:Register for this fabulous workshop hosted by Andrea of Farm Lane Crafts and Design 2.0! She will shepherd you through creating one of three possible designs of a Barn Star Quilt Pattern Board!\nThis will be 12 x 12 wooden barn star quilt that can be used to decorate your home or be given as a gift. You will have the option to paint or stain the pieces of your quilt pattern. The project is very sturdy. The pattern is etched onto the solid bottom piece. Each pattern shape is separate and can be easily painted/stained to the colors of your choice. Once all pieces are ready\, they will be glued to the bottom board. The Workshop will last approximately 2 hours.\nCost is $48 and REGISTRATION ENDS SUNDAY\, OCTOBER 15th\nClick on the link below to register for the class and to view the patterns and make your crafting choice!!\nhttps://docs.google.com/…/1FAIpQLSecU…/viewform\n**You may register more than one person at a time. Just be sure to select the correct quantity for each pattern!!\nWine is NOT   included in the price of the ticket\, so be sure to stop by the bar in the SMW tasting room to grab a glass or bottle of wine to enjoy during the class! Feel free to bring your own snacks if you’d like to nibble on something during the class!
URL:https://shademountainwinery.com/event/wooden-barn-star-quilt-pattern-workshop-smw
LOCATION:Shade Mountain Winery & Vineyards\, 16140 Route 104\, Middleburg\, PA\, 17842\, United States
END:VEVENT
END:VCALENDAR