BEGIN:VCALENDAR
VERSION:2.0
PRODID:-//Shade Mountain Winery - ECPv6.15.17.1//NONSGML v1.0//EN
CALSCALE:GREGORIAN
METHOD:PUBLISH
X-ORIGINAL-URL:https://shademountainwinery.com
X-WR-CALDESC:Events for Shade Mountain Winery
REFRESH-INTERVAL;VALUE=DURATION:PT1H
X-Robots-Tag:noindex
X-PUBLISHED-TTL:PT1H
BEGIN:VTIMEZONE
TZID:UTC
BEGIN:STANDARD
TZOFFSETFROM:+0000
TZOFFSETTO:+0000
TZNAME:UTC
DTSTART:20230101T000000
END:STANDARD
END:VTIMEZONE
BEGIN:VEVENT
DTSTART;TZID=UTC:20240114T133000
DTEND;TZID=UTC:20240114T150000
DTSTAMP:20260422T140515
CREATED:20231128T182840Z
LAST-MODIFIED:20231208T160203Z
UID:4713-1705239000-1705244400@shademountainwinery.com
SUMMARY:Refresh and Renew with Cindy at Shade Mountain Winery & Vineyards!
DESCRIPTION:Winter Blues ??… Then this is for you !! Refresh and Renew with Cindy!\nLooking for some warm and fuzzy winter fun ??……CINDY MOYER IS BACK AT SMW!!!\nGrab your Scarf and a Friend and join the fun! \nThe Chilly winter weather may be Frightful but the Warm Wine and Laughs will be Delightful!!!\nCINDY’s caring touch and motivating sense of humor  will spice up the afternoon with a dose of sunshine and helpful health tips and fun hands on hints to keep your body\, mind\, and (soles) warm and well in any season. Learn techniques to sooth those tired “puppies” as she shares from her background in healthcare and work experience in therapeutic body care methods. \nREGISTER with Cindy by calling or texting 570-850-6836 …. DEADLINE is January 8\nCost $20.00 (door prizes and small care gifts included) \n***If poor weather conditions you will be contacted prior for event rescheduling or cancellation ***\n**CINDY is scheduled to join us again on Sunday JANUARY 28th to present another ladies fun day time out…. Mark your calendar in advance!! (registration begins in Jan)
URL:https://shademountainwinery.com/event/de-stress-with-cindy-at-shade-mountain-winery-vineyards
LOCATION:Shade Mountain Winery & Vineyards\, 16140 Route 104\, Middleburg\, PA\, 17842\, United States
END:VEVENT
END:VCALENDAR