BEGIN:VCALENDAR
VERSION:2.0
PRODID:-//Shade Mountain Winery - ECPv6.15.17.1//NONSGML v1.0//EN
CALSCALE:GREGORIAN
METHOD:PUBLISH
X-ORIGINAL-URL:https://shademountainwinery.com
X-WR-CALDESC:Events for Shade Mountain Winery
REFRESH-INTERVAL;VALUE=DURATION:PT1H
X-Robots-Tag:noindex
X-PUBLISHED-TTL:PT1H
BEGIN:VTIMEZONE
TZID:UTC
BEGIN:STANDARD
TZOFFSETFROM:+0000
TZOFFSETTO:+0000
TZNAME:UTC
DTSTART:20230101T000000
END:STANDARD
END:VTIMEZONE
BEGIN:VEVENT
DTSTART;TZID=UTC:20240128T140000
DTEND;TZID=UTC:20240128T160000
DTSTAMP:20260422T122910
CREATED:20230913T155856Z
LAST-MODIFIED:20231228T152327Z
UID:4671-1706450400-1706457600@shademountainwinery.com
SUMMARY:Wine & Art in Riverside!
DESCRIPTION:Follow along with Gail Fox\, our local\, talented and friendly artist as she teaches you the fine art of canvas painting! Paint ONE of these beautiful winter canvas pieces listed in the photo below (you get to choose!) all the while enjoying a glass of your favorite SM wine!\nThe class kicks off at 2:00pm…..price is $30/person and is worth every penny!\nCall the Riverside location to reserve your spot: 570-284-4311.\nGrab your friends\, motor over to Riverside and enjoy an afternoon of wine\, painting & laughs;) Hope to see you there!
URL:https://shademountainwinery.com/event/wine-art-in-riverside-10
LOCATION:Shade Mountain Winery-The Old Train Station\, 53 D & H Ave\, Riverside\, PA\, 17821\, United States
END:VEVENT
END:VCALENDAR