BEGIN:VCALENDAR
VERSION:2.0
PRODID:-//Shade Mountain Winery - ECPv6.15.17.1//NONSGML v1.0//EN
CALSCALE:GREGORIAN
METHOD:PUBLISH
X-WR-CALNAME:Shade Mountain Winery
X-ORIGINAL-URL:https://shademountainwinery.com
X-WR-CALDESC:Events for Shade Mountain Winery
REFRESH-INTERVAL;VALUE=DURATION:PT1H
X-Robots-Tag:noindex
X-PUBLISHED-TTL:PT1H
BEGIN:VTIMEZONE
TZID:UTC
BEGIN:STANDARD
TZOFFSETFROM:+0000
TZOFFSETTO:+0000
TZNAME:UTC
DTSTART:20230101T000000
END:STANDARD
END:VTIMEZONE
BEGIN:VEVENT
DTSTART;TZID=UTC:20240303T130000
DTEND;TZID=UTC:20240303T150000
DTSTAMP:20260422T105603
CREATED:20240102T211933Z
LAST-MODIFIED:20240103T155509Z
UID:4731-1709470800-1709478000@shademountainwinery.com
SUMMARY:Breaking Bread Pizza Workshop @ SMW!
DESCRIPTION:On Sunday\, March 3rd\, spend an afternoon at Shade Mountain Winery with the Pizza Guru\, Jason\, from Breaking Bread Company (Milton\, PA)\, making Pizza and drinking SMW wine! Jason knows all there is to know about Pizza….the history\, ingredients and the fine art of baking. He will mesmerize you with his knowledge…..and guide you through baking your own “pie” with the ingredients that suit your palate! He will have his very own oven on-site\, so after assembling your pie\, he will cook it quickly for you to be enjoyed on the deck or in our back room!\nWhile you follow along these workshop\, you will be offered a glass of one of three different SMW red wines: Rascal Red (Sweet-Sangria)\, Proprietor’s Red (Semi-Dry) or Cabernet Franc (Dry). These wines all differ in their sweetness levels and varietal character…..so you can choose the one that suits fancy! All three would be wonderful accompaniments to your own “slice of heaven!”\nThe cost of the workshop is $25 and includes Jason’s tutelage\, pizza baking supplies and a glass of wine! The class will begin promptly at 1:00 and we estimate will last roughly and hour.\nTickets for the class can be purchased here. A receipt will be emailed to you. RSVP by Wednesday\, February 28th to ensure a place in the workshop\, as space is limited!\nHope to see you Sunday\, March 3rd for a very FUN DAY!\nIf you have questions\, feel free to call the winery: 570-837-3644
URL:https://shademountainwinery.com/event/breaking-bread-pizza-workshop-smw
LOCATION:Shade Mountain Winery & Vineyards\, 16140 Route 104\, Middleburg\, PA\, 17842\, United States
END:VEVENT
END:VCALENDAR