BEGIN:VCALENDAR
VERSION:2.0
PRODID:-//Shade Mountain Winery - ECPv6.15.17.1//NONSGML v1.0//EN
CALSCALE:GREGORIAN
METHOD:PUBLISH
X-WR-CALNAME:Shade Mountain Winery
X-ORIGINAL-URL:https://shademountainwinery.com
X-WR-CALDESC:Events for Shade Mountain Winery
REFRESH-INTERVAL;VALUE=DURATION:PT1H
X-Robots-Tag:noindex
X-PUBLISHED-TTL:PT1H
BEGIN:VTIMEZONE
TZID:UTC
BEGIN:STANDARD
TZOFFSETFROM:+0000
TZOFFSETTO:+0000
TZNAME:UTC
DTSTART:20230101T000000
END:STANDARD
END:VTIMEZONE
BEGIN:VTIMEZONE
TZID:America/New_York
BEGIN:DAYLIGHT
TZOFFSETFROM:-0500
TZOFFSETTO:-0400
TZNAME:EDT
DTSTART:20230312T070000
END:DAYLIGHT
BEGIN:STANDARD
TZOFFSETFROM:-0400
TZOFFSETTO:-0500
TZNAME:EST
DTSTART:20231105T060000
END:STANDARD
BEGIN:DAYLIGHT
TZOFFSETFROM:-0500
TZOFFSETTO:-0400
TZNAME:EDT
DTSTART:20240310T070000
END:DAYLIGHT
BEGIN:STANDARD
TZOFFSETFROM:-0400
TZOFFSETTO:-0500
TZNAME:EST
DTSTART:20241103T060000
END:STANDARD
BEGIN:DAYLIGHT
TZOFFSETFROM:-0500
TZOFFSETTO:-0400
TZNAME:EDT
DTSTART:20250309T070000
END:DAYLIGHT
BEGIN:STANDARD
TZOFFSETFROM:-0400
TZOFFSETTO:-0500
TZNAME:EST
DTSTART:20251102T060000
END:STANDARD
END:VTIMEZONE
BEGIN:VEVENT
DTSTART;TZID=UTC:20240323T100000
DTEND;TZID=UTC:20240323T163000
DTSTAMP:20260422T105550
CREATED:20240222T150051Z
LAST-MODIFIED:20240222T150051Z
UID:4786-1711188000-1711211400@shademountainwinery.com
SUMMARY:WINE\, "BEER" and Basketball @ SMW!
DESCRIPTION:Join us for a day of WINE\, “BEER” and Basketball! We will have the NCAA bracket basketball games playing on the TVs in our backroom for your competitive enjoyment! We will also have The WINDY WAGON Food Truck rolling in to serve some delectable dishes to keep your stomachs full as you enjoy the games!\nWe will have the wine chilling\, and the coolers full stocked with LOCAL BEERS! There will also be a NEW SMW RELEASE available…..so get your tastebuds psyched up for that!\nWe hope to see you on the March 23rd for whatever MADNESS ensues:)
URL:https://shademountainwinery.com/event/wine-beer-and-basketball-smw
LOCATION:Shade Mountain Winery & Vineyards\, 16140 Route 104\, Middleburg\, PA\, 17842\, United States
END:VEVENT
BEGIN:VEVENT
DTSTART;TZID=America/New_York:20240323T110000
DTEND;TZID=America/New_York:20240323T173000
DTSTAMP:20260422T105550
CREATED:20230207T145441Z
LAST-MODIFIED:20240227T174719Z
UID:3616-1711191600-1711215000@shademountainwinery.com
SUMMARY:Easter in Riverside-Pick an Egg & Win!
DESCRIPTION:At our Riverside location\, we will be offering our PICK an EGG promotion! When checking out\, you will be given a basket of eggs\, of which to chose one from……pick one\, and see what “hatches-wine discounts & accessories!!!” Everyone wins…..\nTake advantage of the discounts\, and stock up on your Easter wine…..we have plenty of options to accompany your Easter Ham!
URL:https://shademountainwinery.com/event/easter-in-riverside-pick-an-egg-win
LOCATION:PA
END:VEVENT
END:VCALENDAR