BEGIN:VCALENDAR
VERSION:2.0
PRODID:-//Shade Mountain Winery - ECPv6.15.17.1//NONSGML v1.0//EN
CALSCALE:GREGORIAN
METHOD:PUBLISH
X-ORIGINAL-URL:https://shademountainwinery.com
X-WR-CALDESC:Events for Shade Mountain Winery
REFRESH-INTERVAL;VALUE=DURATION:PT1H
X-Robots-Tag:noindex
X-PUBLISHED-TTL:PT1H
BEGIN:VTIMEZONE
TZID:UTC
BEGIN:STANDARD
TZOFFSETFROM:+0000
TZOFFSETTO:+0000
TZNAME:UTC
DTSTART:20230101T000000
END:STANDARD
END:VTIMEZONE
BEGIN:VEVENT
DTSTART;TZID=UTC:20240330T100000
DTEND;TZID=UTC:20240330T130000
DTSTAMP:20260422T092733
CREATED:20240226T194035Z
LAST-MODIFIED:20240330T130724Z
UID:4789-1711792800-1711803600@shademountainwinery.com
SUMMARY:Waffle Bar Brunch w/ the Bunny @ SM Winery Middleburg!
DESCRIPTION:On Saturday\, March 30th\, make a trip to Shade Mountain Winery & Vineyards in Middleburg for our first ever Waffle Bar Brunch with the Easter Bunny! It’s KID FRIENDLY! Tried & True Catering by Aunt Jenny’s’ Kitchen will be on site\, whipping up an absolute delightful brunch\, where you can pick and choose your fixings for your waffle breakfast! The brunch is very interactive and fun…..it’s perfect for adults and kiddos to enjoy! The Easter Bunny will be hopping around our back room\, so feel free to grab a photo with the big bunny. Kids will also be given coloring activities as part of the event. So Mom and Dad feel free to partake in a Mimosa\, or a glass of wine\, while the kiddos color away!\n\nThe cost of ticket is $10 and reservations ARE required for the event BY MARCH 30TH. so please register here .\n\nThe menu includes:\n\nWaffle Bar where adults and kiddos can select their fillings\, fruit & drizzle\nBacon and potatoes as sides\nA drink for kids as well\n\nAdults can head down to the bar and grab a drink to suit their fancy (adult drink not included in the price of the ticket\, but the kids drink is included). \nPlease register for the event and timing of your brunch as follows:\n\nWaffle Bar Brunch w/ the Bunny: 10am-11am\nWaffle Bar Brunch w/ the Bunny: 11am-12pm\nWaffle Bar Brunch w/ the Bunny: 12pm-1pm\n\n\nCall the winery with any questions: 570-837-3644. In conjunction with Tried & True Catering\, we are very excited to put on this enjoyable\, tasty\, interactive kid friendly event for you all!!
URL:https://shademountainwinery.com/event/waffle-bar-brunch-w-the-bunny-sm-winery-middleburg
LOCATION:Shade Mountain Winery & Vineyards\, 16140 Route 104\, Middleburg\, PA\, 17842\, United States
END:VEVENT
END:VCALENDAR