BEGIN:VCALENDAR
VERSION:2.0
PRODID:-//Shade Mountain Winery - ECPv6.15.17.1//NONSGML v1.0//EN
CALSCALE:GREGORIAN
METHOD:PUBLISH
X-ORIGINAL-URL:https://shademountainwinery.com
X-WR-CALDESC:Events for Shade Mountain Winery
REFRESH-INTERVAL;VALUE=DURATION:PT1H
X-Robots-Tag:noindex
X-PUBLISHED-TTL:PT1H
BEGIN:VTIMEZONE
TZID:UTC
BEGIN:STANDARD
TZOFFSETFROM:+0000
TZOFFSETTO:+0000
TZNAME:UTC
DTSTART:20230101T000000
END:STANDARD
END:VTIMEZONE
BEGIN:VEVENT
DTSTART;TZID=UTC:20240714T120000
DTEND;TZID=UTC:20240714T163000
DTSTAMP:20260422T033636
CREATED:20240213T191339Z
LAST-MODIFIED:20240213T191339Z
UID:4782-1720958400-1720974600@shademountainwinery.com
SUMMARY:Sunday Funday @ Shade Mountain Winery & Vineyards
DESCRIPTION:Stop by the winery for our another of our Sunday Fundays!! A new talent to the area\, The Junction\, will be performing some fantastic classic rock tunes here at the winery from 1:00-3:00pm. They play all the crowd pleasers! \nWe will have THE WINDY WAGON food truck on-site offering an assortment of delectable dishes that can be consumed on-site or for take out. So feel free to fill your stomachs while enjoying the performance\, or take food with you to enjoy at home!\nGrab your friends and head on over to the winery….we will have wine chilling and ready for purchase! We will also have wine flights available\, where you can select your own 5 wine samples for a fee.\nIn the case of inclement weather\, we will move The Junction inside into our event room. Stay tuned for any updates!\nHope to see you in the sun on Sunday\, July 14th!
URL:https://shademountainwinery.com/event/sunday-funday-shade-mountain-winery-vineyards
LOCATION:Shade Mountain Winery & Vineyards\, 16140 Route 104\, Middleburg\, PA\, 17842\, United States
END:VEVENT
END:VCALENDAR