BEGIN:VCALENDAR
VERSION:2.0
PRODID:-//Shade Mountain Winery - ECPv6.15.17.1//NONSGML v1.0//EN
CALSCALE:GREGORIAN
METHOD:PUBLISH
X-WR-CALNAME:Shade Mountain Winery
X-ORIGINAL-URL:https://shademountainwinery.com
X-WR-CALDESC:Events for Shade Mountain Winery
REFRESH-INTERVAL;VALUE=DURATION:PT1H
X-Robots-Tag:noindex
X-PUBLISHED-TTL:PT1H
BEGIN:VTIMEZONE
TZID:UTC
BEGIN:STANDARD
TZOFFSETFROM:+0000
TZOFFSETTO:+0000
TZNAME:UTC
DTSTART:20230101T000000
END:STANDARD
END:VTIMEZONE
BEGIN:VEVENT
DTSTART;TZID=UTC:20240728T120000
DTEND;TZID=UTC:20240728T163000
DTSTAMP:20260422T015423
CREATED:20240125T163953Z
LAST-MODIFIED:20240125T163953Z
UID:4755-1722168000-1722184200@shademountainwinery.com
SUMMARY:Sunday Funday @ SMW!
DESCRIPTION:Stop by the winery for our another of our Sunday Fundays!! The Substitutes (featuring crowd favorite\, Mark Alexander) will be performing some fantastic tunes here at the winery from 1:00-3:00pm.\nWe will have The Back 2 Basics Burger guys on-site offering an assortment of banging burgers that can be consumed on-site or for take out. So feel free to fill your stomachs while enjoying the performance\, or take food with you to enjoy at home!\nGrab your friends and head on over to the winery….we will have wine chilling and ready for purchase! We will also have wine flights available\, where you can select your own 5 wine samples for a fee.\nIn the case of inclement weather\, we will move The Substitutes inside into our event room. Stay tuned for any updates!\nHope to see you in the sun on Sunday\, July 28th!
URL:https://shademountainwinery.com/event/sunday-funday-smw-3
LOCATION:Shade Mountain Winery & Vineyards\, 16140 Route 104\, Middleburg\, PA\, 17842\, United States
END:VEVENT
END:VCALENDAR