BEGIN:VCALENDAR
VERSION:2.0
PRODID:-//Shade Mountain Winery - ECPv6.15.17.1//NONSGML v1.0//EN
CALSCALE:GREGORIAN
METHOD:PUBLISH
X-WR-CALNAME:Shade Mountain Winery
X-ORIGINAL-URL:https://shademountainwinery.com
X-WR-CALDESC:Events for Shade Mountain Winery
REFRESH-INTERVAL;VALUE=DURATION:PT1H
X-Robots-Tag:noindex
X-PUBLISHED-TTL:PT1H
BEGIN:VTIMEZONE
TZID:UTC
BEGIN:STANDARD
TZOFFSETFROM:+0000
TZOFFSETTO:+0000
TZNAME:UTC
DTSTART:20230101T000000
END:STANDARD
END:VTIMEZONE
BEGIN:VEVENT
DTSTART;TZID=UTC:20240804T120000
DTEND;TZID=UTC:20240804T163000
DTSTAMP:20260422T015421
CREATED:20240125T193440Z
LAST-MODIFIED:20240125T193440Z
UID:4759-1722772800-1722789000@shademountainwinery.com
SUMMARY:Sunday Funday @ SMW!
DESCRIPTION:Stop by the winery for another of our Sunday Fundays!! The Rapid Run Band will be performing some fantastic tunes here at the winery from 1:00-3:00pm.\nWe will have SHANE’S SANDWICH SHACK & SNACKS on-site offering an assortment of delectable dishes that can be consumed on-site or for take out. We are so excited to have them here! So feel free to fill your stomachs while enjoying the performance\, or take food with you to enjoy at home!\nGrab your friends and head on over to the winery….we will have wine chilling and ready for purchase! We will also have wine flights available\, where you can select your own 5 wine samples for a fee.\nIn the case of inclement weather\, we will move Rapid Run inside to our event room….be sure to check in for updates!!\nHope to see you this Sunday\, Aug 4th!
URL:https://shademountainwinery.com/event/sunday-funday-smw-5
LOCATION:Shade Mountain Winery & Vineyards\, 16140 Route 104\, Middleburg\, PA\, 17842\, United States
END:VEVENT
END:VCALENDAR