BEGIN:VCALENDAR
VERSION:2.0
PRODID:-//Shade Mountain Winery - ECPv6.15.17.1//NONSGML v1.0//EN
CALSCALE:GREGORIAN
METHOD:PUBLISH
X-WR-CALNAME:Shade Mountain Winery
X-ORIGINAL-URL:https://shademountainwinery.com
X-WR-CALDESC:Events for Shade Mountain Winery
REFRESH-INTERVAL;VALUE=DURATION:PT1H
X-Robots-Tag:noindex
X-PUBLISHED-TTL:PT1H
BEGIN:VTIMEZONE
TZID:UTC
BEGIN:STANDARD
TZOFFSETFROM:+0000
TZOFFSETTO:+0000
TZNAME:UTC
DTSTART:20230101T000000
END:STANDARD
END:VTIMEZONE
BEGIN:VEVENT
DTSTART;TZID=UTC:20240811T120000
DTEND;TZID=UTC:20240811T163000
DTSTAMP:20260422T015416
CREATED:20240731T172838Z
LAST-MODIFIED:20240731T172838Z
UID:4942-1723377600-1723393800@shademountainwinery.com
SUMMARY:Vineyard and Sunflower Walk @ Shade Mtn Winery Middleburg
DESCRIPTION:On Sunday\, August 11th\, make a trip to Shade Mountain Winery & Vineyards in Middleburg for another installment of our Walk through the Vines! This time we have something special for you…..SUNFLOWERS!! We will walk you through our vineyard as it enters near harvest phase…. ending up in our “secret vineyard” where you will find a beautiful sunflower field! Feel free to enjoy the flowers as a reward for your “walking efforts!” Take some photos when you get there….and take flower home with you! \nWe will have a pathway clearly marked for you….so follow the arrows through the vines. A SMW logo glass is included in the price of the ticket ($8.00) as is a glass of your favorite SMW wine. Feel free to enjoy the glass of wine as you walk….or enjoy it when you return to the winery. The winery opens at noon so you may begin your walk at that time.  We highly recommend you start the walk by 3:00pm so you can get back to the winery in plenty of time to enjoy a glass of wine. \nAs another “treat” we will be offering BOTH adult Root Beer & Orange Creamsicle Floats….as well as non-alcoholic Root Beer & Orange Creamsicle Floats….something for adults and kiddos alike! \nTo fill your stomachs after your walk\, we will have SNACK BOXES crafted by Jenny Miller of Tried & True Catering by Aunt Jenny’s Kitchen for you to purchase ONLINE in advance of the day! Each box is $15 and serves 1-2 people. There are two boxes: \n1. ) Option #1 (Meat) contains fresh veggies\, fruit\, meat\, cheese\, crackers and a sweet treat!\n2. ) Option #2 (Veggie) contains fresh veggies\, fruit\, several cheeses\, crackers and a sweet treat! \nBE SURE TO PLACE YOUR ORDER FOR SNACK BOXES ONLINE. \nTickets for the walk and for snack boxes can be purchased online HERE in this event listing or on our website. \nCall the winery with any questions: 570-837-3644!
URL:https://shademountainwinery.com/event/vineyard-and-sunflower-walk-shade-mtn-winery-middleburg
LOCATION:Shade Mountain Winery & Vineyards\, 16140 Route 104\, Middleburg\, PA\, 17842\, United States
END:VEVENT
END:VCALENDAR