BEGIN:VCALENDAR
VERSION:2.0
PRODID:-//Shade Mountain Winery - ECPv6.15.17.1//NONSGML v1.0//EN
CALSCALE:GREGORIAN
METHOD:PUBLISH
X-ORIGINAL-URL:https://shademountainwinery.com
X-WR-CALDESC:Events for Shade Mountain Winery
REFRESH-INTERVAL;VALUE=DURATION:PT1H
X-Robots-Tag:noindex
X-PUBLISHED-TTL:PT1H
BEGIN:VTIMEZONE
TZID:UTC
BEGIN:STANDARD
TZOFFSETFROM:+0000
TZOFFSETTO:+0000
TZNAME:UTC
DTSTART:20230101T000000
END:STANDARD
END:VTIMEZONE
BEGIN:VEVENT
DTSTART;TZID=UTC:20241110T130000
DTEND;TZID=UTC:20241110T150000
DTSTAMP:20260421T210416
CREATED:20241002T200522Z
LAST-MODIFIED:20241002T200522Z
UID:4978-1731243600-1731250800@shademountainwinery.com
SUMMARY:Let’s Cook: Charcuterie Boards @ SMW in Middleburg!
DESCRIPTION:Looking for a fun afternoon out? Want to learn how to put together a delicious and healthy charcuterie board? Join Penn State Extension at Shade Mountain Winery & Vineyards for “Let’s Cook: Charcuterie Boards” on Sunday\, November 10th at 1:00 pm!Bring your friends and enjoy an afternoon of culinary creativity. Don’t miss out—reserve your spot HERE or on our FB page today!\nThe cost of the class is $30 and includes the instruction\, a generous sample of recipes & mini board to take home! Feel free to purchase a glass of Shade Mountain wine to enjoy during the class when you arrive!\nSpace is limited\, so sign up today!
URL:https://shademountainwinery.com/event/lets-cook-charcuterie-boards-smw-in-middleburg
LOCATION:Shade Mountain Winery & Vineyards\, 16140 Route 104\, Middleburg\, PA\, 17842\, United States
END:VEVENT
END:VCALENDAR