BEGIN:VCALENDAR
VERSION:2.0
PRODID:-//Shade Mountain Winery - ECPv6.15.17.1//NONSGML v1.0//EN
CALSCALE:GREGORIAN
METHOD:PUBLISH
X-ORIGINAL-URL:https://shademountainwinery.com
X-WR-CALDESC:Events for Shade Mountain Winery
REFRESH-INTERVAL;VALUE=DURATION:PT1H
X-Robots-Tag:noindex
X-PUBLISHED-TTL:PT1H
BEGIN:VTIMEZONE
TZID:UTC
BEGIN:STANDARD
TZOFFSETFROM:+0000
TZOFFSETTO:+0000
TZNAME:UTC
DTSTART:20240101T000000
END:STANDARD
END:VTIMEZONE
BEGIN:VEVENT
DTSTART;TZID=UTC:20250601T130000
DTEND;TZID=UTC:20250601T163000
DTSTAMP:20260421T181036
CREATED:20250421T192759Z
LAST-MODIFIED:20250527T163747Z
UID:5138-1748782800-1748795400@shademountainwinery.com
SUMMARY:Balance & Bliss @ SMW in Middleburg
DESCRIPTION:THIS EVENT HAS BEEN CANCELLED.\n\nRegister now for an afternoon of relaxation\, rejuvenation and respite outside amongst the VINES at Shade Mountain Winery in Middleburg (weather-permitting). Kicking off at 1:00pm\, we will play host to the fabulous Johanna Kodlick (RYT-200) of Lizard Toes Yoga as she instructs you in a 60-minute session of flow yoga. Thereafter\, the talented Beth Stark RDN\, LDN of Beth Stark Nutrition will provide nourishment for your mind\, body and soul with a high protein Greek yogurt/Cottage cheese bar! Also included in the afternoon of pampering is a warm weather SM wine cocktail to assist you in the “un-wine-ing;)” process.\nCost of the class is $30 and includes all the aforementioned activities/food/wine. *Yoga blankets and blocks will be available for use\, but participants must bring their own mat.* The yoga & protein bar will take place outside amongst the vines and in a beautiful pavilion behind the winery (weather-permitting). If the weather does not cooperate\, we will move everything inside.\nLet the hustle and bustle of daily life at home and partake in this low-key\, casual afternoon in the vineyard centered on mindful eating\, deep breathing\, yoga and nutrition to stay calm\, cool and collected all summer long;)\nHope to see you for a very special afternoon of balance\, bliss and betterment!
URL:https://shademountainwinery.com/event/balance-bliss-smw-in-middleburg
LOCATION:Shade Mountain Winery & Vineyards\, 16140 Route 104\, Middleburg\, PA\, 17842\, United States
END:VEVENT
END:VCALENDAR