BEGIN:VCALENDAR
VERSION:2.0
PRODID:-//Shade Mountain Winery - ECPv6.15.17.1//NONSGML v1.0//EN
CALSCALE:GREGORIAN
METHOD:PUBLISH
X-WR-CALNAME:Shade Mountain Winery
X-ORIGINAL-URL:https://shademountainwinery.com
X-WR-CALDESC:Events for Shade Mountain Winery
REFRESH-INTERVAL;VALUE=DURATION:PT1H
X-Robots-Tag:noindex
X-PUBLISHED-TTL:PT1H
BEGIN:VTIMEZONE
TZID:UTC
BEGIN:STANDARD
TZOFFSETFROM:+0000
TZOFFSETTO:+0000
TZNAME:UTC
DTSTART:20240101T000000
END:STANDARD
END:VTIMEZONE
BEGIN:VEVENT
DTSTART;TZID=UTC:20250727T130000
DTEND;TZID=UTC:20250727T150000
DTSTAMP:20260421T230431
CREATED:20250610T132023Z
LAST-MODIFIED:20250619T125907Z
UID:5251-1753621200-1753628400@shademountainwinery.com
SUMMARY:The Olde Loft Candle Making Class @ SMW
DESCRIPTION:“Light” up your afternoon at Shade Mountain Winery & Vineyards by making candles under the tutelage of The Olde Loft candle crafters! The Team at The Olde Loft (Richard Road\, Middleburg) have taken on the craft of candle making and are looking forward to imparting their expertise on to you!\nOn Sunday\, July 27th enjoy their “garden” themed candle crafting class here at the winery by working through organized stations: 1.) scent bar/station that includes some of herbal\, berry and floral seasonal scents 2.) a vessel prep station 3.) a wax dispensing station and finally 4.) a pour station where your candles will be set.\nTo add to the “garden” theme\, local farm Flower Farm on the Hill\, will be here with their Bloom Bar! Pick and choose from their beautiful\, stemmed flowers to craft a lovely bouquet to bring home with you! Build your own bloom bouquet per your floral and financial liking;)! They will be accepting payment on that day!\nThe cost of the candle class is $35 and includes instruction and supplies (specially a terra cotta candle vessel\, capped off with a trendy bamboo lid adorned with “The Olde Loft” logo).\nBe sure to stop at the bar and grab a tasting flight\, a glass or a bottle of wine to enjoy while you work (not included in the price of the ticket)! A little wine will surely assist in getting the creative juices flowing?\nTickets can be purchased here on our website and FB page. The class is limited\, so do not wait long to grab your tickets. We anticipate them going quickly as the Team from The Olde Loft is energized and has a wonderful afternoon planned for you.\nHope to see you on Sunday July 27th!
URL:https://shademountainwinery.com/event/the-olde-loft-candle-making-class-smw-2
LOCATION:Shade Mountain Winery & Vineyards\, 16140 Route 104\, Middleburg\, PA\, 17842\, United States
END:VEVENT
END:VCALENDAR