BEGIN:VCALENDAR
VERSION:2.0
PRODID:-//Shade Mountain Winery - ECPv6.15.17.1//NONSGML v1.0//EN
CALSCALE:GREGORIAN
METHOD:PUBLISH
X-WR-CALNAME:Shade Mountain Winery
X-ORIGINAL-URL:https://shademountainwinery.com
X-WR-CALDESC:Events for Shade Mountain Winery
REFRESH-INTERVAL;VALUE=DURATION:PT1H
X-Robots-Tag:noindex
X-PUBLISHED-TTL:PT1H
BEGIN:VTIMEZONE
TZID:UTC
BEGIN:STANDARD
TZOFFSETFROM:+0000
TZOFFSETTO:+0000
TZNAME:UTC
DTSTART:20240101T000000
END:STANDARD
END:VTIMEZONE
BEGIN:VEVENT
DTSTART;TZID=UTC:20250803T130000
DTEND;TZID=UTC:20250803T150000
DTSTAMP:20260422T022329
CREATED:20250701T162414Z
LAST-MODIFIED:20250701T162414Z
UID:5256-1754226000-1754233200@shademountainwinery.com
SUMMARY:Rise & Design Pottery Class at SMW Middleburg!
DESCRIPTION:Enjoy an afternoon of good times\, wine and pottery painting! Participants will have the option to choose their very own pottery pieces to paint for themselves or to gift! Kiddos are also welcome to attend this event!
URL:https://shademountainwinery.com/event/rise-design-pottery-class-at-smw-middleburg
LOCATION:Shade Mountain Winery & Vineyards\, 16140 Route 104\, Middleburg\, PA\, 17842\, United States
END:VEVENT
END:VCALENDAR