BEGIN:VCALENDAR
VERSION:2.0
PRODID:-//Shade Mountain Winery - ECPv6.15.17.1//NONSGML v1.0//EN
CALSCALE:GREGORIAN
METHOD:PUBLISH
X-ORIGINAL-URL:https://shademountainwinery.com
X-WR-CALDESC:Events for Shade Mountain Winery
REFRESH-INTERVAL;VALUE=DURATION:PT1H
X-Robots-Tag:noindex
X-PUBLISHED-TTL:PT1H
BEGIN:VTIMEZONE
TZID:UTC
BEGIN:STANDARD
TZOFFSETFROM:+0000
TZOFFSETTO:+0000
TZNAME:UTC
DTSTART:20240101T000000
END:STANDARD
END:VTIMEZONE
BEGIN:VEVENT
DTSTART;TZID=UTC:20251011T100000
DTEND;TZID=UTC:20251011T170000
DTSTAMP:20260421T132546
CREATED:20250908T150452Z
LAST-MODIFIED:20250908T150452Z
UID:5289-1760176800-1760202000@shademountainwinery.com
SUMMARY:Annual Harvest Festival-Saturday
DESCRIPTION:Join us for our Annual Customer Appreciation Harvest Festival Weekend!As always we plan on having the vintner’s famous pig roast and soup available….music…..and of course wine!We plan on having our grape stompings at 1:00\, 2:00 & 3:00pm as in years past!Kettle Korn by Kratzerville Boy Scouts Troup 441Music will be provided by The Trainwreck Survivors starting at 1:00 and going through 3:00pm sharp. We will have them perform outside behind the winery in our grassy area so please bring your own seating/blankets!In this grassy area\, we will have a tent in the back where wine by the glass and wine by the bottle can be purchased. The wine tent and back grounds will close at 4:00\, and we ask that you make your way out of this rear area at this time.We thank you for your loyalty….small businesses like our would be lost w/out you.Hope to see you here on October 11th
URL:https://shademountainwinery.com/event/annual-harvest-festival-saturday-2
LOCATION:Shade Mountain Winery & Vineyards\, 16140 Route 104\, Middleburg\, PA\, 17842\, United States
END:VEVENT
END:VCALENDAR