BEGIN:VCALENDAR
VERSION:2.0
PRODID:-//Shade Mountain Winery - ECPv6.15.17.1//NONSGML v1.0//EN
CALSCALE:GREGORIAN
METHOD:PUBLISH
X-ORIGINAL-URL:https://shademountainwinery.com
X-WR-CALDESC:Events for Shade Mountain Winery
REFRESH-INTERVAL;VALUE=DURATION:PT1H
X-Robots-Tag:noindex
X-PUBLISHED-TTL:PT1H
BEGIN:VTIMEZONE
TZID:UTC
BEGIN:STANDARD
TZOFFSETFROM:+0000
TZOFFSETTO:+0000
TZNAME:UTC
DTSTART:20250101T000000
END:STANDARD
END:VTIMEZONE
BEGIN:VEVENT
DTSTART;TZID=UTC:20260308T130000
DTEND;TZID=UTC:20260308T150000
DTSTAMP:20260421T083823
CREATED:20260217T190116Z
LAST-MODIFIED:20260217T192034Z
UID:5456-1772974800-1772982000@shademountainwinery.com
SUMMARY:Herr Memorial Library: Paint & Sip @ SWM Middleburg
DESCRIPTION:Tickets are $35 per person and include all materials needed to complete the artwork. Each attendee will receive one drink voucher\, which may be redeemed for either one alcoholic beverage (for guests ages 21 and over) or one nonalcoholic drink. Snacks will be available for all attendees.\nTickets may be purchased online at bit.ly/HerrPaintAndSip\, by calling the library at (570) 966-0831\, or visiting the library in person. All proceeds directly benefit the Herr Memorial Library.\nThe Herr Memorial Library invites the community to a creative afternoon in support of the library at a Paint & Sip fundraiser on Sunday\, March 8 at 1:00 PM\, hosted at Shade Mountain Winery in Middleburg\, PA.\nParticipants will enjoy a guided painting experience led by artist Andrea Seebold in a relaxed\, welcoming setting. Designed for all skill levels\, the event offers the opportunity to create a finished piece while supporting the Herr Memorial Library’s programs\, services\, and resources.
URL:https://shademountainwinery.com/event/herr-memorial-library-paint-sip-swm-middleburg
LOCATION:Shade Mountain Winery & Vineyards\, 16140 Route 104\, Middleburg\, PA\, 17842\, United States
END:VEVENT
BEGIN:VEVENT
DTSTART;TZID=UTC:20260308T140000
DTEND;TZID=UTC:20260308T160000
DTSTAMP:20260421T083823
CREATED:20241231T170001Z
LAST-MODIFIED:20260206T200136Z
UID:5057-1772978400-1772985600@shademountainwinery.com
SUMMARY:Flower Jewelry Class w/ Blooming Meadows Farm @ SMW in Riverside!
DESCRIPTION:On Sunday\, March 8th\, spend the afternoon in the Loft at Shade Mountain Winery’s Old Train Station (Riverside/Danville) crafting your own jewelry and sipping on wine!  Create 2 sets of beautiful earrings and 2 necklaces using floral pieces.  Wine will be available for purchase at the venue \nThe cost of the class is $45 and includes the supplies and tutelage by Colleen Musgrave of Blooming Meadows Farms.   The class kicks off at 2:00pm.  Reserve your spot here. \nHope to see you on the 8th!  This class is great way to spend a cold winter’s Sunday….sipping wine and making crafts!
URL:https://shademountainwinery.com/event/candle-ring-at-shade-mountain-winery-in-riverside
LOCATION:Shade Mountain Winery-The Old Train Station\, 53 D & H Ave\, Riverside\, PA\, 17821\, United States
END:VEVENT
END:VCALENDAR