BEGIN:VCALENDAR
VERSION:2.0
PRODID:-//Shade Mountain Winery - ECPv6.15.20//NONSGML v1.0//EN
CALSCALE:GREGORIAN
METHOD:PUBLISH
X-ORIGINAL-URL:https://shademountainwinery.com
X-WR-CALDESC:Events for Shade Mountain Winery
REFRESH-INTERVAL;VALUE=DURATION:PT1H
X-Robots-Tag:noindex
X-PUBLISHED-TTL:PT1H
BEGIN:VTIMEZONE
TZID:UTC
BEGIN:STANDARD
TZOFFSETFROM:+0000
TZOFFSETTO:+0000
TZNAME:UTC
DTSTART:20250101T000000
END:STANDARD
END:VTIMEZONE
BEGIN:VEVENT
DTSTART;TZID=UTC:20260621T133000
DTEND;TZID=UTC:20260621T143000
DTSTAMP:20260422T215901
CREATED:20260304T182455Z
LAST-MODIFIED:20260324T182430Z
UID:5472-1782048600-1782052200@shademountainwinery.com
SUMMARY:Riverside Train Talk (with Wine in Hand:)
DESCRIPTION:On Sunday\, June 21st make a trip to Shade Mountain Winery’s Old Train Station in Riverside to talk TRAINS! Local historian and South Danville Station guru\, Lynn Reichen\, will lead an informative talk on the history of the railway that runs in front of our Riverside location. So many people ask questions about this historical treasure\, and Lynn has agreed to inform us all! If we are lucky\, we may be graced by a “train fly by” while her talk is in process;)\nThe talk kicks off at 1:30pm at the Old Train Station in Riverside. Most of the talk will occur in our loft space….but Lynn will take you all for a walk around the building as well (weather permitting).\nTo calm your stomachs during the talk\, we will have Charcuterie Boards crafted by local favorite restaurant\, The Paw & Plate (Elysburg) for you to purchase ONLINE in advance of the day! Each box is $16 and serves 2-3 people.\nRegistration for the talk and for snack boxes can be purchased online HERE ($15/person) in this event listing or on our website.\n\nCall the Riverside location with any questions: 570-284-4311!
URL:https://shademountainwinery.com/event/riverside-train-talk-with-wine-in-hand
LOCATION:Shade Mountain Winery-The Old Train Station\, 53 D & H Ave\, Riverside\, PA\, 17821\, United States
END:VEVENT
BEGIN:VEVENT
DTSTART;TZID=UTC:20260628T120000
DTEND;TZID=UTC:20260628T163000
DTSTAMP:20260422T215901
CREATED:20250423T184132Z
LAST-MODIFIED:20260313T185945Z
UID:5142-1782648000-1782664200@shademountainwinery.com
SUMMARY:SUNDAY FUNDAY @ SMW!
DESCRIPTION:Stop by the winery for another of our SUNDAY FUNDAYS!! Crowd favorite\, Bret Alexander will be performing some fantastic tunes outside on our deck (weather permitting) from 1:00-3:00pm.\nWe will have the Middleburg Moose on-site whipping up some of their fabulous food that can be consumed on-site or for take-out. Their BBQ is out of this world….so enjoy the food while supporting this fabulous local organization.\nWe will have wine chilling\, slushies slushing and wine flights available (where you can select your own 5 wine samples for a fee).In the case of inclement weather\, we will move Bret inside into our event room. Stay tuned for any updates!Hope to see you in the sun on SUNDAY June 28th
URL:https://shademountainwinery.com/event/party-on-the-patio-sunday-funday-smw
LOCATION:Shade Mountain Winery & Vineyards\, 16140 Route 104\, Middleburg\, PA\, 17842\, United States
END:VEVENT
BEGIN:VEVENT
DTSTART;TZID=UTC:20260719T120000
DTEND;TZID=UTC:20260719T163000
DTSTAMP:20260422T215901
CREATED:20250424T180202Z
LAST-MODIFIED:20260313T201735Z
UID:5144-1784462400-1784478600@shademountainwinery.com
SUMMARY:Sunday Funday w/ Kj & Tim @ SMW in Middleburg
DESCRIPTION:Stop by the winery for our another of our Sunday Fundays!! The talented and amazing dynamic duo of Kj & Tim will be performing some fantastic tunes here at the winery from 1:00-3:00pm.\nThe Middleburg Moose will be on-site cooking up some fabulous food for purchase. YUM!  Support our local guys as they cater to your tastebuds:)\nGrab your friends and head on over to the winery….we will have wine chilling and ready for purchase! We will also have wine flights available\, where you can select your own 5 wine samples for a fee.In the case of inclement weather\, we will move Kj & Tim inside into our event room. Stay tuned for any updates!Hope to see you in the sun on Sunday\, July 19th!
URL:https://shademountainwinery.com/event/sunday-funday-w-the-substitutes-smw-in-middleburg
LOCATION:Shade Mountain Winery & Vineyards\, 16140 Route 104\, Middleburg\, PA\, 17842\, United States
END:VEVENT
BEGIN:VEVENT
DTSTART;TZID=UTC:20260816T120000
DTEND;TZID=UTC:20260816T163000
DTSTAMP:20260422T215901
CREATED:20250424T181749Z
LAST-MODIFIED:20260313T162803Z
UID:5150-1786881600-1786897800@shademountainwinery.com
SUMMARY:Sunday Funday w/ Trainwreck Survivors & Middleburg Moose @ SMW!
DESCRIPTION:Stop by the winery for our another of our Sunday Fundays!! The Trainwreck Survivors will be performing some fantastic tunes here at the winery from 1:00-3:00pm. \nThe Middleburg Moose will be on-site cooking up some fabulous food for purchase. Support our local guys as they cater to your tastebuds:) \nGrab your friends and head on over to the winery….we will have wine chilling and ready for purchase! We will also have wine flights available\, where you can select your own 5 wine samples for a fee.\nIn the case of inclement weather\, we will move The Trainwreck Survivors inside into our event room. Stay tuned for any updates!\nHope to see you in the sun on Sunday\, August 16th!
URL:https://shademountainwinery.com/event/sunday-funday-w-trainwreck-survivors-smw
LOCATION:Shade Mountain Winery & Vineyards\, 16140 Route 104\, Middleburg\, PA\, 17842\, United States
END:VEVENT
END:VCALENDAR