BEGIN:VCALENDAR
VERSION:2.0
PRODID:-//Shade Mountain Winery - ECPv6.15.20//NONSGML v1.0//EN
CALSCALE:GREGORIAN
METHOD:PUBLISH
X-ORIGINAL-URL:https://shademountainwinery.com
X-WR-CALDESC:Events for Shade Mountain Winery
REFRESH-INTERVAL;VALUE=DURATION:PT1H
X-Robots-Tag:noindex
X-PUBLISHED-TTL:PT1H
BEGIN:VTIMEZONE
TZID:America/New_York
BEGIN:DAYLIGHT
TZOFFSETFROM:-0500
TZOFFSETTO:-0400
TZNAME:EDT
DTSTART:20190310T070000
END:DAYLIGHT
BEGIN:STANDARD
TZOFFSETFROM:-0400
TZOFFSETTO:-0500
TZNAME:EST
DTSTART:20191103T060000
END:STANDARD
BEGIN:DAYLIGHT
TZOFFSETFROM:-0500
TZOFFSETTO:-0400
TZNAME:EDT
DTSTART:20200308T070000
END:DAYLIGHT
BEGIN:STANDARD
TZOFFSETFROM:-0400
TZOFFSETTO:-0500
TZNAME:EST
DTSTART:20201101T060000
END:STANDARD
BEGIN:DAYLIGHT
TZOFFSETFROM:-0500
TZOFFSETTO:-0400
TZNAME:EDT
DTSTART:20210314T070000
END:DAYLIGHT
BEGIN:STANDARD
TZOFFSETFROM:-0400
TZOFFSETTO:-0500
TZNAME:EST
DTSTART:20211107T060000
END:STANDARD
END:VTIMEZONE
BEGIN:VEVENT
DTSTART;TZID=America/New_York:20200906T130000
DTEND;TZID=America/New_York:20200906T170000
DTSTAMP:20260425T174256
CREATED:20200218T130908Z
LAST-MODIFIED:20200218T130908Z
UID:1955-1599397200-1599411600@shademountainwinery.com
SUMMARY:Schuylkill County Wine Festival-CANCELLED
DESCRIPTION:Due to the COVID19 pandemic and subsequent state of the nation\, the organizers of the Gettysburg Wine & Music Festival have decided to cancel the festival.  Thank you for your understanding. \nThe Schuylkill County Wine Festival is held annually at the beautiful Hegins Park in Hegins\, PA celebrating the various wineries and related product in Schuylkill County and nearby locations
URL:https://shademountainwinery.com/event/schuylkill-county-wine-festival
LOCATION:PA
END:VEVENT
BEGIN:VEVENT
DTSTART;VALUE=DATE:20200912
DTEND;VALUE=DATE:20200913
DTSTAMP:20260425T174256
CREATED:20200825T154803Z
LAST-MODIFIED:20200825T154803Z
UID:2144-1599868800-1599955199@shademountainwinery.com
SUMMARY:Danville Tasting Trail:  Grab & Go!
DESCRIPTION:Get out on Saturday\, September 12th and support your local watering holes! Visit any or all of the following beer/wine/coffee businesses for their special deals and seasonal beverages: Bason Roasting Coffee (featuring a spiced pumpkin latte)\, Old Forge Brewing (featuring seasonal beer)\, Red Shale Ridge Winery (enjoy 15% off a case of wine)\, Rock God Brewing (Grab $2 pints and take them with you!) & Shade Mountain Winery in Riverside (Grab a hard Square Root Beer Float TOGO & enjoy 15% of a case of wine). Stop in\, grab some deals and GO! Stay safe and do not linger…..Masks are required at all businesses and please practice social distancing!
URL:https://shademountainwinery.com/event/danville-tasting-trail-grab-go
LOCATION:PA
END:VEVENT
BEGIN:VEVENT
DTSTART;TZID=America/New_York:20200912T120000
DTEND;TZID=America/New_York:20200913T180000
DTSTAMP:20260425T174256
CREATED:20200218T130434Z
LAST-MODIFIED:20200218T130434Z
UID:1952-1599912000-1600020000@shademountainwinery.com
SUMMARY:Gettysburg Wine & Music Festival-CANCELLED
DESCRIPTION:Due to the COVID19 pandemic and subsequent state of the nation\, the organizers of the Gettysburg Wine & Music Festival have decided to cancel the festival.  Thank you for your understanding. \nWe will be here all weekend offering samples and sales of a selection of our wines! Come find us!
URL:https://shademountainwinery.com/event/gettysburg-wine-music-festival
LOCATION:PA
END:VEVENT
BEGIN:VEVENT
DTSTART;TZID=America/New_York:20200913T120000
DTEND;TZID=America/New_York:20200913T170000
DTSTAMP:20260425T174256
CREATED:20200811T131330Z
LAST-MODIFIED:20200811T131330Z
UID:2137-1599998400-1600016400@shademountainwinery.com
SUMMARY:Sunday Funday at SMW!
DESCRIPTION:Stop by the winery for our another of our SUNDAY FUNDAYs! \nDue to the challenging times\, we are moving our entertainment off the deck and into the vines this year. We will be keeping you on the deck\, however\, as our seating for this event will be from above! So you can listen to the tunes of the TRAINWRECK SURVIVORS as you are perched from deck\, all the while enjoying the vineyard views. \nFor this event because of limited seating capacity (due to COVID19 restrictions)\, we are requiring patrons to call the Winery and reserve tables in advance of the performance (570-837-3644). Patrons can reserve tables for a 2-hour time frame beginning at 12:00pm (12:00-2:00pm)\, and then again at 2:15pm (2:15-4:15pm). We will clean and sanitize per CDC guidelines. \nAs stated before\, THE TRAINWRECK SURVIVORS will perform from 1:00-3:30pm (which will include a small break). To add to the FUN\, we will have The Walkabout Wings and Things Food Truck from The Grilled Cheese Cafe and Catering on-site offering FOOD (for a fee)! \nWe are keeping it local today! Wonderful wine + Marvelous Music + Fantastic Food = Sunday Funday for sure!! \nGrab your friends and head on over to the winery….we will have wine chilling and ready for purchase! We will also have wine flights available\, where you can select your own 5 wine samples for $10. \nTHIS EVENT IS WEATHER PERMITTING. In the event of rain/storms\, we will have to cancel. Stay tuned for any updates! \nHope to see you in the sun on Sunday\, September 13th!
URL:https://shademountainwinery.com/event/sunday-funday-at-smw
LOCATION:PA
END:VEVENT
BEGIN:VEVENT
DTSTART;TZID=America/New_York:20200919T103000
DTEND;TZID=America/New_York:20200919T163000
DTSTAMP:20260425T174256
CREATED:20200729T135110Z
LAST-MODIFIED:20200729T135110Z
UID:2130-1600511400-1600533000@shademountainwinery.com
SUMMARY:Fall Trail Explore Route 104
DESCRIPTION:On Saturday September 19th\, make your way down and around Route 104 in Snyder County and visit the following businesses for discounts and prizes: Shade Mountain Winery & Vineyards\, Star Hollow Candle Company\, The Olde Loft and Weirick’s Primitives. Make sure you pick up a ticket listing all participating businesses so that you can get it signed (at each location)….then hand it over to be entered into a prize raffle! Shop local….support small businesses as you make your way around Route 104!!
URL:https://shademountainwinery.com/event/fall-trail-explore-route-104-2
LOCATION:PA
END:VEVENT
END:VCALENDAR