BEGIN:VCALENDAR
VERSION:2.0
PRODID:-//Shade Mountain Winery - ECPv6.15.20//NONSGML v1.0//EN
CALSCALE:GREGORIAN
METHOD:PUBLISH
X-WR-CALNAME:Shade Mountain Winery
X-ORIGINAL-URL:https://shademountainwinery.com
X-WR-CALDESC:Events for Shade Mountain Winery
REFRESH-INTERVAL;VALUE=DURATION:PT1H
X-Robots-Tag:noindex
X-PUBLISHED-TTL:PT1H
BEGIN:VTIMEZONE
TZID:America/New_York
BEGIN:DAYLIGHT
TZOFFSETFROM:-0500
TZOFFSETTO:-0400
TZNAME:EDT
DTSTART:20190310T070000
END:DAYLIGHT
BEGIN:STANDARD
TZOFFSETFROM:-0400
TZOFFSETTO:-0500
TZNAME:EST
DTSTART:20191103T060000
END:STANDARD
BEGIN:DAYLIGHT
TZOFFSETFROM:-0500
TZOFFSETTO:-0400
TZNAME:EDT
DTSTART:20200308T070000
END:DAYLIGHT
BEGIN:STANDARD
TZOFFSETFROM:-0400
TZOFFSETTO:-0500
TZNAME:EST
DTSTART:20201101T060000
END:STANDARD
BEGIN:DAYLIGHT
TZOFFSETFROM:-0500
TZOFFSETTO:-0400
TZNAME:EDT
DTSTART:20210314T070000
END:DAYLIGHT
BEGIN:STANDARD
TZOFFSETFROM:-0400
TZOFFSETTO:-0500
TZNAME:EST
DTSTART:20211107T060000
END:STANDARD
END:VTIMEZONE
BEGIN:VEVENT
DTSTART;TZID=America/New_York:20201010T120000
DTEND;TZID=America/New_York:20201010T170000
DTSTAMP:20260425T155156
CREATED:20190718T141608Z
LAST-MODIFIED:20190718T141608Z
UID:1617-1602331200-1602349200@shademountainwinery.com
SUMMARY:Fall Harvest Festival
DESCRIPTION:We still plan on having our annual customer appreciation festival this year….even with mandatory restrictions and updated safety guidelines. \nWe plan on having food available for purchase….music…..and of course wine! \nMusic will be provided by The Pepper Street Band starting at 1:00 and going through 3:00pm sharp.  We will have them perform behind the winery as in years past.  For this event\, because of limited seating capacity (due to COVID19 restrictions)\, we are requiring patrons to call the Winery and reserve plots in advance of the performance (570-837-3644).   Each plot of land can hold up to 6 people.  When reserving our spot\, please let the winery know how many people are in your party.  You may bring your own seating/blankets.  There will NOT be a communal dance area.  There will be NO parking available in the grassy area behind the winery.  We will have a check-in area where you will be given your plot number and then can make your way to your seating. \nWhen you are not seating\, we do require masks to be worn. \nAlso\, we will have a tent in the back where wine by the glass and wine by the bottle can be purchased.  Tastings will NOT be available.   The wine tent and back grounds will close at 4:00\, and we ask that you make your out of this rear area at this time. \nThe Grilled Cheese Cafe & Catering Food Truck will be on-site offering up delectable dishes (for a fee)!  Please come prepared to support our local eatery! \nPLEASE NOTE:  THIS EVENT IS WEATHER PERMITTING. \nWe cannot thank you enough for your patience and understanding during this difficult time.  It is our aim to offer you all a safe and hospitable area of which to enjoy life again….. \nWe thank you for your loyalty….without you\, we certainly would not be here. \nUPDATE:  Currently all the 10′ x 10′ plots (behind the winery) have been reserved….we are all booked up for Saturday’s musical entertainment!  You can still enjoy the deck seating\, as it’s first come\, first serve.  When tables are available\, you can enjoy the vineyard views from the deck for up to 2 hours. \nFor your safety and the safety of others\, while enjoying the event on Saturday\, we ask that patrons who have reserved spaces in the grounds behind the winery to enjoy the Pepper Street Band\, follow the guidelines listed below that adhere to the latest mandate provided by Governor Wolf: \n\nPlease remain in your 10’ x 10’ while enjoying the music. Please no communal dancing.\nPlease consume food while enjoying wine. The Grilled Cheese Cafe & Catering Truck will be on-site to assist with food consumption.\nPlease wear a mask when not seated in your land plot.\nFeel free to utilize the hand sanitizer provided to you by the winery.\nPlease dispose of any trash that you may have created while on site in the trash receptacles provided near the wine tent.\nNo other alcoholic beverages can be consumed on our property. Coolers are subject to inspection\nPlease exit the grounds by 4:00pm.\n**Please note that failure to comply to with these guidelines may result in removal from the winery.\nThank you for your kind understanding during these trying times.  We are just so very thankful for your loyalty.
URL:https://shademountainwinery.com/event/harvest-festival
LOCATION:PA
END:VEVENT
BEGIN:VEVENT
DTSTART;TZID=America/New_York:20201011T120000
DTEND;TZID=America/New_York:20201011T160000
DTSTAMP:20260425T155156
CREATED:20190718T142353Z
LAST-MODIFIED:20190718T142353Z
UID:1619-1602417600-1602432000@shademountainwinery.com
SUMMARY:Fall Harvest Festival-Sunday Funday
DESCRIPTION:Given the current state of the world\, we are amending our events for the Sunday Funday of our harvest festival weekend.  We still plan on having entertainment and food…..and of course wine!  However\, our other activities have been cancelled. \nDue to the challenging times\, we are moving our entertainment off the deck and into the vines this year. We will be keeping you on the deck\, however\, as our seating for this event will be from above! So you can listen to the tunes of RUNAWAY STROLLER as you are perched from deck\, all the while enjoying the vineyard views. \nFor this event because of limited seating capacity (due to COVID19 restrictions)\, we are requiring patrons to call the Winery and reserve tables in advance of the performance (570-837-3644). Patrons can reserve tables for a 2-hour time frame beginning at 12:00pm (12:00-2:00pm)\, and then again at 2:15pm (2:15-4:15pm). We will clean and sanitize per CDC guidelines. \nAs stated before\, RUNAWAY STROLLER will perform from 1:00-3:30pm (which will include a small break).  To add to the FUN\, we will have a food truck from Heimbach’s Country Store (in Selinsgrove) on-site offering FOOD (for a fee)! They plan on offering the staples: Pulled Chicken\, Burgers\, hot dogs etc….a little something for everyone! \nWe are keeping it local today! Wonderful wine + Marvelous Music + Fantastic Food = Sunday Funday for sure!! \nGrab your friends and head on over to the winery….we will have wine chilling and ready for purchase! We will also have wine flights available\, where you can select your own 5 wine samples for $10. \nTHIS EVENT IS WEATHER PERMITTING. In the event of rain/storms\, we will have to cancel. Stay tuned for any updates! \nHope to see you in the sun on Sunday\, October 11th!
URL:https://shademountainwinery.com/event/harvest-festival-2
LOCATION:PA
END:VEVENT
END:VCALENDAR