BEGIN:VCALENDAR
VERSION:2.0
PRODID:-//Shade Mountain Winery - ECPv6.15.20//NONSGML v1.0//EN
CALSCALE:GREGORIAN
METHOD:PUBLISH
X-WR-CALNAME:Shade Mountain Winery
X-ORIGINAL-URL:https://shademountainwinery.com
X-WR-CALDESC:Events for Shade Mountain Winery
REFRESH-INTERVAL;VALUE=DURATION:PT1H
X-Robots-Tag:noindex
X-PUBLISHED-TTL:PT1H
BEGIN:VTIMEZONE
TZID:America/New_York
BEGIN:DAYLIGHT
TZOFFSETFROM:-0500
TZOFFSETTO:-0400
TZNAME:EDT
DTSTART:20200308T070000
END:DAYLIGHT
BEGIN:STANDARD
TZOFFSETFROM:-0400
TZOFFSETTO:-0500
TZNAME:EST
DTSTART:20201101T060000
END:STANDARD
BEGIN:DAYLIGHT
TZOFFSETFROM:-0500
TZOFFSETTO:-0400
TZNAME:EDT
DTSTART:20210314T070000
END:DAYLIGHT
BEGIN:STANDARD
TZOFFSETFROM:-0400
TZOFFSETTO:-0500
TZNAME:EST
DTSTART:20211107T060000
END:STANDARD
BEGIN:DAYLIGHT
TZOFFSETFROM:-0500
TZOFFSETTO:-0400
TZNAME:EDT
DTSTART:20220313T070000
END:DAYLIGHT
BEGIN:STANDARD
TZOFFSETFROM:-0400
TZOFFSETTO:-0500
TZNAME:EST
DTSTART:20221106T060000
END:STANDARD
END:VTIMEZONE
BEGIN:VEVENT
DTSTART;TZID=America/New_York:20210508T100000
DTEND;TZID=America/New_York:20210508T170000
DTSTAMP:20260425T014816
CREATED:20210202T143421Z
LAST-MODIFIED:20210202T143421Z
UID:3041-1620468000-1620493200@shademountainwinery.com
SUMMARY:Mother's Day Food\, Music & Mimosas!
DESCRIPTION:On Saturday\, May 8th\, take good care of Mom on her special day….stop by our winery in Middleburg w/ Mom on your arm….order her a MIMOSAS (featuring our sparkling wines: Three Witches Sparkling White\, Cool Duck\, Sparkling Apple & Ginger Owl)!  We will also be offering Mimosa Flights for $10! It’s a great way to sample 5 different sparkling cocktails!\n**Please note: We will have Mimosas available at our Riverside/Danville store as well! For those who live east of the winery\, feel free to show Mom love in Riverside/Danville as well!!:)\nAlong with Mimosas\, treat Mom to Ard’s Farm Market’s fine food….they will have chicken and pork tacos\, mini charcuterie boards and spinach and crab tip…..all are delightful dishes to suit Mom’s fancy:)\nWe will have crowd-favorite\, TL & Kj on hand providing fabulous tunes to make it an extra special day for Mom (1:00-3:30pm)! They are a favorite here SMW\, and it warms our hearts to have them here again! \nFor this event because of limited seating capacity (due to COVID19 restrictions)\, we are requiring patrons to call the Winery and reserve tables in advance of the performance (570-837-3644). Patrons can reserve tables for a 2-hour time frame beginning at 12:00pm (12:00-2:00pm)\, and then again at 2:15pm (2:15-4:15pm). We will clean and sanitize per CDC guidelines. \nShow Mom love….through libations this year:) Hope to see you there!
URL:https://shademountainwinery.com/event/mothers-day-food-music-mimosas
LOCATION:PA
END:VEVENT
BEGIN:VEVENT
DTSTART;TZID=America/New_York:20210516T103000
DTEND;TZID=America/New_York:20210516T113000
DTSTAMP:20260425T014816
CREATED:20210324T140234Z
LAST-MODIFIED:20210324T140234Z
UID:3052-1621161000-1621164600@shademountainwinery.com
SUMMARY:Yoga in the Vines-Benefit for Heroic Healthcare Workers!
DESCRIPTION:Now more than ever\, we are all looking for serenity and solace after such a tumultuous year. To provide respite and rejuvenation\, we are teaming up with Johanna Kodlick\, of Lizard Toes Yoga\, to offer a morning of YOGA in the VINES-a benefit class whereby proceeds will go to our local Healthcare workers that have given/sacrificed so much while battling the COVID19 pandemic.\n\nSpecifically\, proceeds from this class will go directly to the following two funds:\n1.) Evangelical Community Hospital’s COVID-19 Emergency Fund\n2.) Geisinger Hospital’s COVID-19 Relief Effort\nJohanna will be working her magic behind the winery where is plenty of green\, safe space! The class will start at 10:30 and finish up at11:30am. PLEASE CHECK IN AT THE WINERY PRIOR TO 10:30AM.  Upon conclusion of the class\, continuing the relaxation process in another manner-venture up to the Winery for a complimentary glass of any wine your heart desires and light refreshments.\nThe cost of this event for this event is $15 and includes-Yoga instruction\, glass of wine/light refreshments at SMW. For our healthcare workers\, we offering the class at a discounted rate-$10. There will be a waiver to sign prior to the class\, so please look forward to completing it and returning before the class commences!\n\nWe want you to know how much we value all you’ve done in the name of humanity this past year. Please just show our ID prior to the commencement of the class. Thank you from the bottom of our hearts!\n\nThis event is weather permitting.\n\n\n\nWe will adhere to current CDC guidelines for social distancing and mask wearing.\nTickets can be purchased online.\nhttps://shademountainwinery.yapsody.com/event/index/643441/yoga-in-the-vineyard
URL:https://shademountainwinery.com/event/yoga-in-the-vines-benefit-for-heroic-healthcare-workers
LOCATION:PA
END:VEVENT
BEGIN:VEVENT
DTSTART;TZID=America/New_York:20210522T093000
DTEND;TZID=America/New_York:20210522T223000
DTSTAMP:20260425T014816
CREATED:20210324T130052Z
LAST-MODIFIED:20210324T130052Z
UID:3051-1621675800-1621722600@shademountainwinery.com
SUMMARY:Wine & Yoga in Riverside!
DESCRIPTION:Looking for serenity on a Saturday morning? Join Maggie Wetzel as she instructs her inaugural yoga class by the river in RIVERSIDE! Maggie has secured a prime outdoor location behind The English Garden\, and will take care of your mind\, body and soul on Saturday\, May 22nd starting at 9:30am. Forget about the worries of the world for an hour as embrace this outdoor space. Upon conclusion of the class\, continuing the relaxation process in another manner-venture to Shade Mountain Winery (across the street) for a complimentary glass of any wine your heart desires! Light refreshments will also be available.\n“Retail therapy” will also be made available at The English Garden\, as not only does your ticket include a glass of wine\, but also a discount on purchases made at The English Garden on that day.\nThe cost of this event for this event is $35 and includes-Yoga instruction\, glass of wine/light refreshments at SMW in Riverside and a discount on purchases made at The English Garden (on that day). Please bring your own mat and blank for added comfort.\nWe will adhere to current CDC guidelines for social distancing and mask wearing.\nTickets can be purchased online.\nThis event is weather permitting.
URL:https://shademountainwinery.com/event/wine-yoga-in-riverside
LOCATION:PA
END:VEVENT
BEGIN:VEVENT
DTSTART;TZID=America/New_York:20210529T110000
DTEND;TZID=America/New_York:20210530T170000
DTSTAMP:20260425T014816
CREATED:20210409T100051Z
LAST-MODIFIED:20210409T100051Z
UID:3053-1622286000-1622394000@shademountainwinery.com
SUMMARY:FlavorFest Wine Festival at Mount Hope Estate
DESCRIPTION:We will be in attendance at the Great FlavorFest Wine Festival held on the grounds of the Renaissance Faire.  Please see the link below for pertinent event information!  Hope to see you there! \nhttp://www.parenfaire.com/flavorfest.html \n 
URL:https://shademountainwinery.com/event/flavorfest-wine-festival-at-mount-hope-estate
LOCATION:PA
END:VEVENT
END:VCALENDAR