BEGIN:VCALENDAR
VERSION:2.0
PRODID:-//Shade Mountain Winery - ECPv6.15.20//NONSGML v1.0//EN
CALSCALE:GREGORIAN
METHOD:PUBLISH
X-WR-CALNAME:Shade Mountain Winery
X-ORIGINAL-URL:https://shademountainwinery.com
X-WR-CALDESC:Events for Shade Mountain Winery
REFRESH-INTERVAL;VALUE=DURATION:PT1H
X-Robots-Tag:noindex
X-PUBLISHED-TTL:PT1H
BEGIN:VTIMEZONE
TZID:America/New_York
BEGIN:DAYLIGHT
TZOFFSETFROM:-0500
TZOFFSETTO:-0400
TZNAME:EDT
DTSTART:20200308T070000
END:DAYLIGHT
BEGIN:STANDARD
TZOFFSETFROM:-0400
TZOFFSETTO:-0500
TZNAME:EST
DTSTART:20201101T060000
END:STANDARD
BEGIN:DAYLIGHT
TZOFFSETFROM:-0500
TZOFFSETTO:-0400
TZNAME:EDT
DTSTART:20210314T070000
END:DAYLIGHT
BEGIN:STANDARD
TZOFFSETFROM:-0400
TZOFFSETTO:-0500
TZNAME:EST
DTSTART:20211107T060000
END:STANDARD
BEGIN:DAYLIGHT
TZOFFSETFROM:-0500
TZOFFSETTO:-0400
TZNAME:EDT
DTSTART:20220313T070000
END:DAYLIGHT
BEGIN:STANDARD
TZOFFSETFROM:-0400
TZOFFSETTO:-0500
TZNAME:EST
DTSTART:20221106T060000
END:STANDARD
END:VTIMEZONE
BEGIN:VEVENT
DTSTART;TZID=America/New_York:20210925T100000
DTEND;TZID=America/New_York:20210925T170000
DTSTAMP:20260424T183609
CREATED:20210825T113904Z
LAST-MODIFIED:20210825T113904Z
UID:3060-1632564000-1632589200@shademountainwinery.com
SUMMARY:Fall Trail Explore Route 104!  Shop Local!
DESCRIPTION:On Saturday September 25th\, make your way down and around Route 104 in Snyder County and visit the following businesses for discounts and prizes: Shade Mountain Winery & Vineyards\, Star Hollow Candle Company\, The Olde Loft and Weirick’s Primitives. Make sure you pick up a ticket listing all participating businesses so that you can get it signed (at each location)….then hand it over to be entered into a prize raffle!\nHere at Shade Mountain\, if you make a purchase and you have a ticket\, you will receive a coupon to be used at a later date.\nShop local….support small businesses as you make your way around Route 104!!
URL:https://shademountainwinery.com/event/fall-trail-explore-route-104-shop-local
LOCATION:PA
END:VEVENT
END:VCALENDAR