BEGIN:VCALENDAR
VERSION:2.0
PRODID:-//Shade Mountain Winery - ECPv6.15.20//NONSGML v1.0//EN
CALSCALE:GREGORIAN
METHOD:PUBLISH
X-WR-CALNAME:Shade Mountain Winery
X-ORIGINAL-URL:https://shademountainwinery.com
X-WR-CALDESC:Events for Shade Mountain Winery
REFRESH-INTERVAL;VALUE=DURATION:PT1H
X-Robots-Tag:noindex
X-PUBLISHED-TTL:PT1H
BEGIN:VTIMEZONE
TZID:America/New_York
BEGIN:DAYLIGHT
TZOFFSETFROM:-0500
TZOFFSETTO:-0400
TZNAME:EDT
DTSTART:20200308T070000
END:DAYLIGHT
BEGIN:STANDARD
TZOFFSETFROM:-0400
TZOFFSETTO:-0500
TZNAME:EST
DTSTART:20201101T060000
END:STANDARD
BEGIN:DAYLIGHT
TZOFFSETFROM:-0500
TZOFFSETTO:-0400
TZNAME:EDT
DTSTART:20210314T070000
END:DAYLIGHT
BEGIN:STANDARD
TZOFFSETFROM:-0400
TZOFFSETTO:-0500
TZNAME:EST
DTSTART:20211107T060000
END:STANDARD
BEGIN:DAYLIGHT
TZOFFSETFROM:-0500
TZOFFSETTO:-0400
TZNAME:EDT
DTSTART:20220313T070000
END:DAYLIGHT
BEGIN:STANDARD
TZOFFSETFROM:-0400
TZOFFSETTO:-0500
TZNAME:EST
DTSTART:20221106T060000
END:STANDARD
END:VTIMEZONE
BEGIN:VEVENT
DTSTART;TZID=America/New_York:20211113T110000
DTEND;TZID=America/New_York:20211113T180000
DTSTAMP:20260424T151956
CREATED:20211103T132448Z
LAST-MODIFIED:20211103T132448Z
UID:3124-1636801200-1636826400@shademountainwinery.com
SUMMARY:Country Spiced Apple TOGO in Riverside!
DESCRIPTION:We will be featuring our Country Spiced Apple wine in Riverside on Saturday\, November 13th & 20th! Drink this delightful concoction from our holiday logo thermal tumblers!\nBuy a logo thermal tumbler filled with our warm Country Spiced Apple concoction for $15….refills are $5 and worth every penny!\nThese yummy liquid desserts are the perfect coping mechanism to get you through the holiday season!! \n 
URL:https://shademountainwinery.com/event/country-spiced-apple-togo-in-riverside
LOCATION:PA
END:VEVENT
BEGIN:VEVENT
DTSTART;TZID=America/New_York:20211120T110000
DTEND;TZID=America/New_York:20211120T180000
DTSTAMP:20260424T151956
CREATED:20211103T132644Z
LAST-MODIFIED:20211103T132644Z
UID:3128-1637406000-1637431200@shademountainwinery.com
SUMMARY:Country Spiced Apple TOGO in Riverside!!
DESCRIPTION:We will be featuring our heated Country Spiced Apple wine in Riverside on Saturday\, November 13th & 20th! Drink this delightful concoction on the GO!\nWe will have this heated delight in our TOGO cups…..or you can buy a logo thermal tumbler filled with our warm Country Spiced Apple concoction for $15….refills are $5 and worth every penny!\nThese yummy liquid desserts are the perfect coping mechanism to get you through the holiday season!!
URL:https://shademountainwinery.com/event/country-spiced-apple-togo-in-riverside-2
LOCATION:PA
END:VEVENT
BEGIN:VEVENT
DTSTART;TZID=America/New_York:20211120T120000
DTEND;TZID=America/New_York:20211121T170000
DTSTAMP:20260424T151956
CREATED:20211103T135235Z
LAST-MODIFIED:20211103T135235Z
UID:3133-1637409600-1637514000@shademountainwinery.com
SUMMARY:Susquehanna Heartland Wine Trail:  A Heartland Christmas
DESCRIPTION:
URL:https://shademountainwinery.com/event/susquehanna-heartland-wine-trail-a-heartland-christmas-2
LOCATION:PA
END:VEVENT
BEGIN:VEVENT
DTSTART;TZID=America/New_York:20211127T120000
DTEND;TZID=America/New_York:20211128T170000
DTSTAMP:20260424T151956
CREATED:20211103T135342Z
LAST-MODIFIED:20211103T135342Z
UID:3136-1638014400-1638118800@shademountainwinery.com
SUMMARY:Susquehanna Heartland Wine Trail:  A Heartland Christmas
DESCRIPTION:
URL:https://shademountainwinery.com/event/susquehanna-heartland-wine-trail-a-heartland-christmas-3
LOCATION:PA
END:VEVENT
END:VCALENDAR