BEGIN:VCALENDAR
VERSION:2.0
PRODID:-//Shade Mountain Winery - ECPv6.15.20//NONSGML v1.0//EN
CALSCALE:GREGORIAN
METHOD:PUBLISH
X-ORIGINAL-URL:https://shademountainwinery.com
X-WR-CALDESC:Events for Shade Mountain Winery
REFRESH-INTERVAL;VALUE=DURATION:PT1H
X-Robots-Tag:noindex
X-PUBLISHED-TTL:PT1H
BEGIN:VTIMEZONE
TZID:America/New_York
BEGIN:DAYLIGHT
TZOFFSETFROM:-0500
TZOFFSETTO:-0400
TZNAME:EDT
DTSTART:20200308T070000
END:DAYLIGHT
BEGIN:STANDARD
TZOFFSETFROM:-0400
TZOFFSETTO:-0500
TZNAME:EST
DTSTART:20201101T060000
END:STANDARD
BEGIN:DAYLIGHT
TZOFFSETFROM:-0500
TZOFFSETTO:-0400
TZNAME:EDT
DTSTART:20210314T070000
END:DAYLIGHT
BEGIN:STANDARD
TZOFFSETFROM:-0400
TZOFFSETTO:-0500
TZNAME:EST
DTSTART:20211107T060000
END:STANDARD
BEGIN:DAYLIGHT
TZOFFSETFROM:-0500
TZOFFSETTO:-0400
TZNAME:EDT
DTSTART:20220313T070000
END:DAYLIGHT
BEGIN:STANDARD
TZOFFSETFROM:-0400
TZOFFSETTO:-0500
TZNAME:EST
DTSTART:20221106T060000
END:STANDARD
END:VTIMEZONE
BEGIN:VEVENT
DTSTART;TZID=America/New_York:20211204T110000
DTEND;TZID=America/New_York:20211204T180000
DTSTAMP:20260424T133217
CREATED:20211102T122912Z
LAST-MODIFIED:20211102T122912Z
UID:3120-1638615600-1638640800@shademountainwinery.com
SUMMARY:Pick a Cork in Riverside!
DESCRIPTION:Shop your way through Riverside on Saturday\, Dec 4th! Visit The English Garden and Shade Mountain Winery for holiday deals and discounts!\nAt Shade Mountain Winery\, customers can play “pick a cork” and win! We will also have warm Grinch Grog to help warm you from the inside out;)  You can take it TOGO!\nShop Local this holiday season and support your area’s small businesses!
URL:https://shademountainwinery.com/event/pick-a-cork-in-riverside
LOCATION:PA
END:VEVENT
BEGIN:VEVENT
DTSTART;TZID=America/New_York:20211204T120000
DTEND;TZID=America/New_York:20211205T170000
DTSTAMP:20260424T133217
CREATED:20211103T135458Z
LAST-MODIFIED:20211103T135458Z
UID:3139-1638619200-1638723600@shademountainwinery.com
SUMMARY:Susquehanna Heartland Wine Trail:  A Heartland Christmas
DESCRIPTION:
URL:https://shademountainwinery.com/event/susquehanna-heartland-wine-trail-a-heartland-christmas-4
LOCATION:PA
END:VEVENT
END:VCALENDAR