BEGIN:VCALENDAR
VERSION:2.0
PRODID:-//Shade Mountain Winery - ECPv6.15.20//NONSGML v1.0//EN
CALSCALE:GREGORIAN
METHOD:PUBLISH
X-WR-CALNAME:Shade Mountain Winery
X-ORIGINAL-URL:https://shademountainwinery.com
X-WR-CALDESC:Events for Shade Mountain Winery
REFRESH-INTERVAL;VALUE=DURATION:PT1H
X-Robots-Tag:noindex
X-PUBLISHED-TTL:PT1H
BEGIN:VTIMEZONE
TZID:America/New_York
BEGIN:DAYLIGHT
TZOFFSETFROM:-0500
TZOFFSETTO:-0400
TZNAME:EDT
DTSTART:20210314T070000
END:DAYLIGHT
BEGIN:STANDARD
TZOFFSETFROM:-0400
TZOFFSETTO:-0500
TZNAME:EST
DTSTART:20211107T060000
END:STANDARD
BEGIN:DAYLIGHT
TZOFFSETFROM:-0500
TZOFFSETTO:-0400
TZNAME:EDT
DTSTART:20220313T070000
END:DAYLIGHT
BEGIN:STANDARD
TZOFFSETFROM:-0400
TZOFFSETTO:-0500
TZNAME:EST
DTSTART:20221106T060000
END:STANDARD
BEGIN:DAYLIGHT
TZOFFSETFROM:-0500
TZOFFSETTO:-0400
TZNAME:EDT
DTSTART:20230312T070000
END:DAYLIGHT
BEGIN:STANDARD
TZOFFSETFROM:-0400
TZOFFSETTO:-0500
TZNAME:EST
DTSTART:20231105T060000
END:STANDARD
END:VTIMEZONE
BEGIN:VEVENT
DTSTART;TZID=America/New_York:20220403T130000
DTEND;TZID=America/New_York:20220403T150000
DTSTAMP:20260424T064422
CREATED:20220207T163625Z
LAST-MODIFIED:20220207T163625Z
UID:3434-1648990800-1648998000@shademountainwinery.com
SUMMARY:Wine & Art in Middleburg
DESCRIPTION:On Sunday\, April 3rd our winery in Middleburg will host the fabulous Reba Rohrer (former Middleburg Art Teaching legend;) in her first Wine & Art class! She has put together a fantastic project which she terms “Block Design (see example below).” Registrants for the class must come prepared with words\, or a phrase they’d like to use in their design. Reba aptly chose the words “Chardonnay\, Merlot and Rose” and repeated them until her blocks ran out! She will provide all supplies and instruction…..the winery will provide you with a glass of wine to get the creative juices flowing!\nThe cost of the class is $35/person. Again Included in the class are instruction/supplies and the glass of wine. It commences promptly at 1:00pm and should take 2 hours until completion. Feel free to bring some snacks if you need sustenance to complete your project!\nYou can register for the class online using the link included in this post. You can also call the winery to reserve your spot (570-837-3644). Do not wait too long to register as space is limited!\nReba is a local legend in these parts….and quite talented in the field of art instruction. Do not miss this fabulous opportunity to be taught by the best of the best!
URL:https://shademountainwinery.com/event/wine-art-in-middleburg
LOCATION:PA
END:VEVENT
BEGIN:VEVENT
DTSTART;TZID=America/New_York:20220409T110000
DTEND;TZID=America/New_York:20220409T170000
DTSTAMP:20260424T064422
CREATED:20200225T145652Z
LAST-MODIFIED:20200225T145652Z
UID:1972-1649502000-1649523600@shademountainwinery.com
SUMMARY:Easter in Riverside-Pick an Egg and Win!
DESCRIPTION:At our Riverside location\, we will be offering our PICK an EGG promotion! When checking out\, you will be given a basket of eggs\, of which to chose one from……pick one\,  and see what “hatches-wine discounts & accessories!!!” Everyone wins….. \nTake advantage of the discounts\, and stock up on your Easter wine…..we have plenty of options to accompany your Easter Ham!
URL:https://shademountainwinery.com/event/easter-in-riverside-pick-an-egg-and-win
LOCATION:PA
END:VEVENT
BEGIN:VEVENT
DTSTART;TZID=America/New_York:20220410T120000
DTEND;TZID=America/New_York:20220410T163000
DTSTAMP:20260424T064422
CREATED:20220322T141157Z
LAST-MODIFIED:20220322T141157Z
UID:3473-1649592000-1649608200@shademountainwinery.com
SUMMARY:Sunday Funday with Cake Pop Flights @ Winery!
DESCRIPTION:Stop by the Winery in Middleburg for a Sunday Funday featuring Cake Pop Flights! Heimbach’s Country Store is whipping up FIVE cake pop flavors that will be paired with FIVE of our wines (for $20) while “supplies” last!!\n\nThe pairings will go as follows:\nVanilla Cake Pop ~ paired with our Pinot Grigio\nChocolate Cake Pop ~ paired with our Shade Mtn Red\nFunfetti Cake Pop ~ paired with our Three Witches Sparkling White wine\nStrawberry Cake Pop ~ paired with our Autumn Harvest Blush\nMint Cake Pop ~ paired with our Mint Wine\n\nThese delightful treats will get your sweet tooth ready for the upcoming Easter holiday! Kill two birds w/ one stone and pick up wine on this Sunday for any adult Easter Basket you may be putting together;) We also have our own gift baskets available for purchase…..they can take the hassle of Easter basket assembly off your hands!\nMark your calendars for this fun event! Here’s hoping the weather will cooperate and we can get you out on the deck to enjoy the vineyard views!
URL:https://shademountainwinery.com/event/sunday-funday-with-cake-pop-flights-winery
LOCATION:PA
END:VEVENT
BEGIN:VEVENT
DTSTART;TZID=America/New_York:20220424T140000
DTEND;TZID=America/New_York:20220424T160000
DTSTAMP:20260424T064422
CREATED:20220309T133159Z
LAST-MODIFIED:20220309T133159Z
UID:3467-1650808800-1650816000@shademountainwinery.com
SUMMARY:Wine & Art in Riverside!
DESCRIPTION:Follow along with Gail Fox\, our local\, talented and friendly artist as she teaches you the fine art of canvas painting! Paint ONE of two Springy scenes (you get to choose!) all the while enjoying a glass of your favorite SM wine!\nThe class kicks off at 2:00pm…..price is $30/person and is worth every penny!\nCall the Riverside location to reserve your spot: 570-284-4311.\nGrab your friends\, motor over to Riverside and enjoy an afternoon of wine\, painting & laughs;) Hope to see you there!
URL:https://shademountainwinery.com/event/wine-art-in-riverside-3
LOCATION:PA
END:VEVENT
END:VCALENDAR