BEGIN:VCALENDAR
VERSION:2.0
PRODID:-//Shade Mountain Winery - ECPv6.15.20//NONSGML v1.0//EN
CALSCALE:GREGORIAN
METHOD:PUBLISH
X-WR-CALNAME:Shade Mountain Winery
X-ORIGINAL-URL:https://shademountainwinery.com
X-WR-CALDESC:Events for Shade Mountain Winery
REFRESH-INTERVAL;VALUE=DURATION:PT1H
X-Robots-Tag:noindex
X-PUBLISHED-TTL:PT1H
BEGIN:VTIMEZONE
TZID:America/New_York
BEGIN:DAYLIGHT
TZOFFSETFROM:-0500
TZOFFSETTO:-0400
TZNAME:EDT
DTSTART:20220313T070000
END:DAYLIGHT
BEGIN:STANDARD
TZOFFSETFROM:-0400
TZOFFSETTO:-0500
TZNAME:EST
DTSTART:20221106T060000
END:STANDARD
BEGIN:DAYLIGHT
TZOFFSETFROM:-0500
TZOFFSETTO:-0400
TZNAME:EDT
DTSTART:20230312T070000
END:DAYLIGHT
BEGIN:STANDARD
TZOFFSETFROM:-0400
TZOFFSETTO:-0500
TZNAME:EST
DTSTART:20231105T060000
END:STANDARD
BEGIN:DAYLIGHT
TZOFFSETFROM:-0500
TZOFFSETTO:-0400
TZNAME:EDT
DTSTART:20240310T070000
END:DAYLIGHT
BEGIN:STANDARD
TZOFFSETFROM:-0400
TZOFFSETTO:-0500
TZNAME:EST
DTSTART:20241103T060000
END:STANDARD
END:VTIMEZONE
BEGIN:VEVENT
DTSTART;TZID=America/New_York:20230401T100000
DTEND;TZID=America/New_York:20230401T170000
DTSTAMP:20260423T082615
CREATED:20230307T124729Z
LAST-MODIFIED:20230307T124729Z
UID:3661-1680343200-1680368400@shademountainwinery.com
SUMMARY:Susquehanna Heartland Wine Trail:  Spring Eggstravaganza
DESCRIPTION:SUSQUEHANNA HEARTLAND WINE TRAIL’S SPRING EGGSTRAVAGANZA! \nA TICKET GETS YOU: \nFREE Easter basket at the first winery. \n5 FREE wine tastings and an Easter Egg at each of the 17 wineries on the trail. Eggs will contain candy and surprises. Some eggs will contain $5 SHWT gift certificates in quantities of 1\, 2 or 10! \nGet your tickets here or at a participating winery. Only $15/ticket. Shake off the winter blues and enjoy a great Spring event. Savor the taste of central PA’s greatest wines\, all while searching for those special eggs with prizes. \nTickets make great Christmas presents for the adventurous wine drinker on your list.
URL:https://shademountainwinery.com/event/3661
LOCATION:PA
END:VEVENT
BEGIN:VEVENT
DTSTART;TZID=America/New_York:20230402T120000
DTEND;TZID=America/New_York:20230402T170000
DTSTAMP:20260423T082615
CREATED:20230307T130020Z
LAST-MODIFIED:20230307T130020Z
UID:3666-1680436800-1680454800@shademountainwinery.com
SUMMARY:Susquehanna Heartland Wine Trail's:  Spring Eggstravaganza
DESCRIPTION:SUSQUEHANNA HEARTLAND WINE TRAIL’S SPRING EGGSTRAVAGANZA! \nA TICKET GETS YOU: \nFREE Easter basket at the first winery. \n5 FREE wine tastings and an Easter Egg at each of the 17 wineries on the trail. Eggs will contain candy and surprises. Some eggs will contain $5 SHWT gift certificates in quantities of 1\, 2 or 10! \nGet your tickets here or at a participating winery. Only $15/ticket. Shake off the winter blues and enjoy a great Spring event. Savor the taste of central PA’s greatest wines\, all while searching for those special eggs with prizes. \nTickets make great Christmas presents for the adventurous wine drinker on your list.
URL:https://shademountainwinery.com/event/susquehanna-heartland-wine-trails-spring-eggstravaganza
LOCATION:PA
END:VEVENT
BEGIN:VEVENT
DTSTART;TZID=America/New_York:20230408T100000
DTEND;TZID=America/New_York:20230408T170000
DTSTAMP:20260423T082615
CREATED:20230307T130628Z
LAST-MODIFIED:20230307T130628Z
UID:3674-1680948000-1680973200@shademountainwinery.com
SUMMARY:Susquehanna Heartland Wine Trail's:  Spring Eggstravaganza
DESCRIPTION:SUSQUEHANNA HEARTLAND WINE TRAIL’S SPRING EGGSTRAVAGANZA! \nA TICKET GETS YOU: \nFREE Easter basket at the first winery. \n5 FREE wine tastings and an Easter Egg at each of the 17 wineries on the trail. Eggs will contain candy and surprises. Some eggs will contain $5 SHWT gift certificates in quantities of 1\, 2 or 10! \nGet your tickets here or at a participating winery. Only $15/ticket. Shake off the winter blues and enjoy a great Spring event. Savor the taste of central PA’s greatest wines\, all while searching for those special eggs with prizes. \nTickets make great Christmas presents for the adventurous wine drinker on your list.
URL:https://shademountainwinery.com/event/susquehanna-heartland-wine-trails-spring-eggstravaganza-5
LOCATION:PA
END:VEVENT
BEGIN:VEVENT
DTSTART;TZID=America/New_York:20230415T100000
DTEND;TZID=America/New_York:20230415T170000
DTSTAMP:20260423T082615
CREATED:20230307T132103Z
LAST-MODIFIED:20230307T132103Z
UID:3687-1681552800-1681578000@shademountainwinery.com
SUMMARY:Susquehanna Heartland Wine Trail's:  Spring Eggstravaganza
DESCRIPTION:SUSQUEHANNA HEARTLAND WINE TRAIL’S SPRING EGGSTRAVAGANZA! \nA TICKET GETS YOU: \nFREE Easter basket at the first winery. \n5 FREE wine tastings and an Easter Egg at each of the 17 wineries on the trail. Eggs will contain candy and surprises. Some eggs will contain $5 SHWT gift certificates in quantities of 1\, 2 or 10! \nGet your tickets here or at a participating winery. Only $15/ticket. Shake off the winter blues and enjoy a great Spring event. Savor the taste of central PA’s greatest wines\, all while searching for those special eggs with prizes. \nTickets make great Christmas presents for the adventurous wine drinker on your list.
URL:https://shademountainwinery.com/event/susquehanna-heartland-wine-trails-spring-eggstravaganza-3
LOCATION:PA
END:VEVENT
BEGIN:VEVENT
DTSTART;TZID=America/New_York:20230416T120000
DTEND;TZID=America/New_York:20230416T170000
DTSTAMP:20260423T082615
CREATED:20230307T130722Z
LAST-MODIFIED:20230307T130722Z
UID:3676-1681646400-1681664400@shademountainwinery.com
SUMMARY:Susquehanna Heartland Wine Trail's:  Spring Eggstravaganza
DESCRIPTION:SUSQUEHANNA HEARTLAND WINE TRAIL’S SPRING EGGSTRAVAGANZA! \nA TICKET GETS YOU: \nFREE Easter basket at the first winery. \n5 FREE wine tastings and an Easter Egg at each of the 17 wineries on the trail. Eggs will contain candy and surprises. Some eggs will contain $5 SHWT gift certificates in quantities of 1\, 2 or 10! \nGet your tickets here or at a participating winery. Only $15/ticket. Shake off the winter blues and enjoy a great Spring event. Savor the taste of central PA’s greatest wines\, all while searching for those special eggs with prizes. \nTickets make great Christmas presents for the adventurous wine drinker on your list.
URL:https://shademountainwinery.com/event/susquehanna-heartland-wine-trails-spring-eggstravaganza-6
LOCATION:PA
END:VEVENT
BEGIN:VEVENT
DTSTART;TZID=America/New_York:20230416T140000
DTEND;TZID=America/New_York:20230416T160000
DTSTAMP:20260423T082615
CREATED:20230320T095811Z
LAST-MODIFIED:20230320T095811Z
UID:3691-1681653600-1681660800@shademountainwinery.com
SUMMARY:Wine & Art in Riverside!
DESCRIPTION:Follow along with Gail Fox\, our local\, talented and friendly artist as she teaches you the fine art of canvas painting! Paint ONE of two beautiful flowers listed in the cover photo (you get to choose!) all the while enjoying a glass of your favorite SM wine!\nThe class kicks off at 2:00pm…..price is $30/person and is worth every penny!\nCall the Riverside location to reserve your spot: 570-284-4311.\nGrab your friends\, motor over to Riverside and enjoy an afternoon of wine\, painting & laughs;) Hope to see you there!
URL:https://shademountainwinery.com/event/wine-art-in-riverside-8
LOCATION:PA
END:VEVENT
BEGIN:VEVENT
DTSTART;TZID=America/New_York:20230422T100000
DTEND;TZID=America/New_York:20230422T170000
DTSTAMP:20260423T082615
CREATED:20230307T130906Z
LAST-MODIFIED:20230307T130906Z
UID:3678-1682157600-1682182800@shademountainwinery.com
SUMMARY:Susquehanna Heartland Wine Trail's:  Spring Eggstravaganza
DESCRIPTION:SUSQUEHANNA HEARTLAND WINE TRAIL’S SPRING EGGSTRAVAGANZA! \nA TICKET GETS YOU: \nFREE Easter basket at the first winery. \n5 FREE wine tastings and an Easter Egg at each of the 17 wineries on the trail. Eggs will contain candy and surprises. Some eggs will contain $5 SHWT gift certificates in quantities of 1\, 2 or 10! \nGet your tickets here or at a participating winery. Only $15/ticket. Shake off the winter blues and enjoy a great Spring event. Savor the taste of central PA’s greatest wines\, all while searching for those special eggs with prizes. \nTickets make great Christmas presents for the adventurous wine drinker on your list.
URL:https://shademountainwinery.com/event/susquehanna-heartland-wine-trails-spring-eggstravaganza-7
LOCATION:PA
END:VEVENT
BEGIN:VEVENT
DTSTART;TZID=America/New_York:20230423T120000
DTEND;TZID=America/New_York:20230423T170000
DTSTAMP:20260423T082615
CREATED:20230307T131025Z
LAST-MODIFIED:20230307T131025Z
UID:3680-1682251200-1682269200@shademountainwinery.com
SUMMARY:Susquehanna Heartland Wine Trail's:  Spring Eggstravaganza
DESCRIPTION:SUSQUEHANNA HEARTLAND WINE TRAIL’S SPRING EGGSTRAVAGANZA! \nA TICKET GETS YOU: \nFREE Easter basket at the first winery. \n5 FREE wine tastings and an Easter Egg at each of the 17 wineries on the trail. Eggs will contain candy and surprises. Some eggs will contain $5 SHWT gift certificates in quantities of 1\, 2 or 10! \nGet your tickets here or at a participating winery. Only $15/ticket. Shake off the winter blues and enjoy a great Spring event. Savor the taste of central PA’s greatest wines\, all while searching for those special eggs with prizes. \nTickets make great Christmas presents for the adventurous wine drinker on your list.
URL:https://shademountainwinery.com/event/susquehanna-heartland-wine-trails-spring-eggstravaganza-8
LOCATION:PA
END:VEVENT
BEGIN:VEVENT
DTSTART;TZID=America/New_York:20230429T100000
DTEND;TZID=America/New_York:20230429T170000
DTSTAMP:20260423T082615
CREATED:20230307T131538Z
LAST-MODIFIED:20230307T131538Z
UID:3682-1682762400-1682787600@shademountainwinery.com
SUMMARY:Susquehanna Heartland Wine Trail's:  Spring Eggstravaganza
DESCRIPTION:SUSQUEHANNA HEARTLAND WINE TRAIL’S SPRING EGGSTRAVAGANZA! \nA TICKET GETS YOU: \nFREE Easter basket at the first winery. \n5 FREE wine tastings and an Easter Egg at each of the 17 wineries on the trail. Eggs will contain candy and surprises. Some eggs will contain $5 SHWT gift certificates in quantities of 1\, 2 or 10! \nGet your tickets here or at a participating winery. Only $15/ticket. Shake off the winter blues and enjoy a great Spring event. Savor the taste of central PA’s greatest wines\, all while searching for those special eggs with prizes. \nTickets make great Christmas presents for the adventurous wine drinker on your list.
URL:https://shademountainwinery.com/event/3682
LOCATION:PA
END:VEVENT
BEGIN:VEVENT
DTSTART;TZID=America/New_York:20230430T120000
DTEND;TZID=America/New_York:20230430T170000
DTSTAMP:20260423T082615
CREATED:20230307T131707Z
LAST-MODIFIED:20230307T131707Z
UID:3685-1682856000-1682874000@shademountainwinery.com
SUMMARY:Susquehanna Heartland Wine Trail's:  Spring Eggstravaganza
DESCRIPTION:SUSQUEHANNA HEARTLAND WINE TRAIL’S SPRING EGGSTRAVAGANZA! \nA TICKET GETS YOU: \nFREE Easter basket at the first winery. \n5 FREE wine tastings and an Easter Egg at each of the 17 wineries on the trail. Eggs will contain candy and surprises. Some eggs will contain $5 SHWT gift certificates in quantities of 1\, 2 or 10! \nGet your tickets here or at a participating winery. Only $15/ticket. Shake off the winter blues and enjoy a great Spring event. Savor the taste of central PA’s greatest wines\, all while searching for those special eggs with prizes. \nTickets make great Christmas presents for the adventurous wine drinker on your list.
URL:https://shademountainwinery.com/event/susquehanna-heartland-wine-trails-spring-eggstravaganza-9
LOCATION:PA
END:VEVENT
END:VCALENDAR