BEGIN:VCALENDAR
VERSION:2.0
PRODID:-//Shade Mountain Winery - ECPv6.15.20//NONSGML v1.0//EN
CALSCALE:GREGORIAN
METHOD:PUBLISH
X-ORIGINAL-URL:https://shademountainwinery.com
X-WR-CALDESC:Events for Shade Mountain Winery
REFRESH-INTERVAL;VALUE=DURATION:PT1H
X-Robots-Tag:noindex
X-PUBLISHED-TTL:PT1H
BEGIN:VTIMEZONE
TZID:America/New_York
BEGIN:DAYLIGHT
TZOFFSETFROM:-0500
TZOFFSETTO:-0400
TZNAME:EDT
DTSTART:20220313T070000
END:DAYLIGHT
BEGIN:STANDARD
TZOFFSETFROM:-0400
TZOFFSETTO:-0500
TZNAME:EST
DTSTART:20221106T060000
END:STANDARD
BEGIN:DAYLIGHT
TZOFFSETFROM:-0500
TZOFFSETTO:-0400
TZNAME:EDT
DTSTART:20230312T070000
END:DAYLIGHT
BEGIN:STANDARD
TZOFFSETFROM:-0400
TZOFFSETTO:-0500
TZNAME:EST
DTSTART:20231105T060000
END:STANDARD
BEGIN:DAYLIGHT
TZOFFSETFROM:-0500
TZOFFSETTO:-0400
TZNAME:EDT
DTSTART:20240310T070000
END:DAYLIGHT
BEGIN:STANDARD
TZOFFSETFROM:-0400
TZOFFSETTO:-0500
TZNAME:EST
DTSTART:20241103T060000
END:STANDARD
END:VTIMEZONE
BEGIN:VEVENT
DTSTART;TZID=America/New_York:20230513T100000
DTEND;TZID=America/New_York:20230513T163000
DTSTAMP:20260423T035819
CREATED:20200116T095900Z
LAST-MODIFIED:20200116T095900Z
UID:1858-1683972000-1683995400@shademountainwinery.com
SUMMARY:Mother's Day-Food\, Music & Mimosas at SMW!
DESCRIPTION:On Saturday\, May 13th\, take good care of Mom on her special day….stop by our winery in Middleburg w/ Mom on your arm and order her a MIMOSA (featuring our sparkling wines: Three Witches Sparkling White\, Cool Duck\, Sparkling Apple\, Pappy’s Hard Grape Juice & Ginger Owl)! We will also be offering Mimosa Flights for $10! It’s a great way to sample 5 different sparkling cocktails!\nAt the Winery in Middleburg\, we will have The Real Taste Food Truck on site serving up fabulous Mexican cuisine! Don’t miss out!\nLastly (certainly not least!!!)\, we will have crowd-favorite\, TL & Kj on hand providing fabulous tunes ON OUR DECK to make it an extra special day for Mom (1:00-3:00pm)! They are a favorite here SMW\, and it warms our hearts to have them here again! If the weather is inclement\, we will move them inside to our back room.\nShow Mom love….through Sparkling libations this year:) Hope to see you there!
URL:https://shademountainwinery.com/event/mothers-day-mimosa-bar-and-more-at-smw
LOCATION:PA
END:VEVENT
BEGIN:VEVENT
DTSTART;TZID=America/New_York:20230521T120000
DTEND;TZID=America/New_York:20230521T163000
DTSTAMP:20260423T035819
CREATED:20210202T150725Z
LAST-MODIFIED:20210202T150725Z
UID:3042-1684670400-1684686600@shademountainwinery.com
SUMMARY:Sunday Funday at SMW!
DESCRIPTION:Stop by the winery for our first Sunday Funday of the year!! Kimbo & Bryan will be performing some fantastic tunes from 1:00-3:00pm. Reservations are not required.\nWe will have BUTCH’S SMOKEHOUSE FIXX\, on-site offering an assortment of delectable dishes that can be consumed on-site or for take out. We are so excited to have them here! So feel free to fill your stomachs while enjoying the performance\, or take food with you to enjoy at home!\nGrab your friends and head on over to the winery….we will have wine chilling and ready for purchase! We will also have wine flights available\, where you can select your own 5 wine samples for a fee.\nIn the case of inclement weather\, we will move the music inside in our back room. Stay tuned for any updates!\nHope to see you in the sun on Sunday\, May 21st!
URL:https://shademountainwinery.com/event/sunday-funday-at-smw-2
LOCATION:PA
END:VEVENT
END:VCALENDAR