BEGIN:VCALENDAR
VERSION:2.0
PRODID:-//Shade Mountain Winery - ECPv6.15.17.1//NONSGML v1.0//EN
CALSCALE:GREGORIAN
METHOD:PUBLISH
X-WR-CALNAME:Shade Mountain Winery
X-ORIGINAL-URL:https://shademountainwinery.com
X-WR-CALDESC:Events for Shade Mountain Winery
REFRESH-INTERVAL;VALUE=DURATION:PT1H
X-Robots-Tag:noindex
X-PUBLISHED-TTL:PT1H
BEGIN:VTIMEZONE
TZID:UTC
BEGIN:STANDARD
TZOFFSETFROM:+0000
TZOFFSETTO:+0000
TZNAME:UTC
DTSTART:20230101T000000
END:STANDARD
END:VTIMEZONE
BEGIN:VEVENT
DTSTART;TZID=UTC:20240210T100000
DTEND;TZID=UTC:20240210T120000
DTSTAMP:20260422T105716
CREATED:20240123T174046Z
LAST-MODIFIED:20240123T174046Z
UID:4750-1707559200-1707566400@shademountainwinery.com
SUMMARY:Galentine's Day Wine & Wreath Workshop @ SMW!
DESCRIPTION:Looking for a fabulous activity to share with your friends? Make it special Galentine’s Day here at SMW with local crafter Kelly Swanger of Mel & Monty Plant Co (Selinsgrove\, PA)\, as she instructs you on making a beautiful heart-shaped wreath that can used for decoration and/or as a gift! As you craft the morning away\, be sure to grab a glass of your favorite SMW wine or ask about their selection of Mimosas (cost of wine is not included in the ticket). Bottles of wine can also be shared with your table of fellow friends!\nThe class kicks off ly as 10:00am and should continue through 12:00pm. The cost of the ticket is $40 and includes all your crafting supplies. Kelly will have a spread of preserved and dried floral & greens in different colors\, patterns and textures of which you may choose in making the perfect wreath! Registrations are taken online here.\nSpend your Saturday morning with your favorite friends….laugh\, drink and be merry….as your craft away! What a great Galentine’s Day celebration to share with your closest friends!
URL:https://shademountainwinery.com/event/galentines-day-wine-wreath-workshop-smw
LOCATION:Shade Mountain Winery & Vineyards\, 16140 Route 104\, Middleburg\, PA\, 17842\, United States
END:VEVENT
BEGIN:VEVENT
DTSTART;TZID=UTC:20240217T100000
DTEND;TZID=UTC:20240217T170000
DTSTAMP:20260422T105716
CREATED:20240110T182837Z
LAST-MODIFIED:20240110T182837Z
UID:4739-1708164000-1708189200@shademountainwinery.com
SUMMARY:Whoopie Pie and Wine Flights @ The Vineyard!
DESCRIPTION:Stop by the Winery in Middleburg for Whoopie Pie & Wine Flights! We will be pairing 5 of our wines with 5 fabulous Whoopie Pies made locally at Heimbach’s Country Store. The cost of the flight is $20 and reservations are not required.  Please note the flights will be available while supplies last.\nWe will also have plenty of gift baskets and other gift options to shower your beloved with…..and you can always fall back on wine\, as nothing says love like SMW Wine!\nThis event is being held at the Winery in Middleburg only.
URL:https://shademountainwinery.com/event/whoopie-pie-and-wine-flights-the-vineyard
LOCATION:Shade Mountain Winery & Vineyards\, 16140 Route 104\, Middleburg\, PA\, 17842\, United States
END:VEVENT
END:VCALENDAR