BEGIN:VCALENDAR
VERSION:2.0
PRODID:-//Shade Mountain Winery - ECPv6.15.17.1//NONSGML v1.0//EN
CALSCALE:GREGORIAN
METHOD:PUBLISH
X-ORIGINAL-URL:https://shademountainwinery.com
X-WR-CALDESC:Events for Shade Mountain Winery
REFRESH-INTERVAL;VALUE=DURATION:PT1H
X-Robots-Tag:noindex
X-PUBLISHED-TTL:PT1H
BEGIN:VTIMEZONE
TZID:UTC
BEGIN:STANDARD
TZOFFSETFROM:+0000
TZOFFSETTO:+0000
TZNAME:UTC
DTSTART:20230101T000000
END:STANDARD
END:VTIMEZONE
BEGIN:VEVENT
DTSTART;TZID=UTC:20241006T130000
DTEND;TZID=UTC:20241006T150000
DTSTAMP:20260421T210413
CREATED:20240823T172754Z
LAST-MODIFIED:20240823T172754Z
UID:4951-1728219600-1728226800@shademountainwinery.com
SUMMARY:The Olde Loft Candle Making Class @ SMW!
DESCRIPTION:“Light” up your afternoon at Shade Mountain Winery & Vineyards by making candles under the tutelage of The Olde Loft candle crafters! The Team at The Olde Loft (Richard Road\, Middleburg) have taken on the craft of candle making and are looking forward to imparting their expertise on to you!\nOn Sunday\, October 6th craft your own candles here at the winery by working through organized stations: 1.) scent bar/station that includes some of our classic and seasonal scents 2.) a vessel prep station 3.) a wax dispensing station and finally 4.) a pour station where your candles will be set.\nThe cost of the class is $30 and includes instruction and supplies (specially a 10 oz translucent tumbler champagne in color\, capped off with a trendy bamboo lid adorned with “The Olde Loft” logo).\nBe sure to stop at the bar and grab a tasting flight\, a glass or a bottle of wine to enjoy while you work (not included in the price of the ticket)! A little wine will surely assist in getting the creative juices flowing\nTickets can be purchased here on our website and FB page. The class is limited to 35 people\, so do not wait long to grab your tickets. We anticipate them going quickly as the Team from The Olde Loft is energized and has a wonderful afternoon planned for you.\nHope to see you on October 6th!
URL:https://shademountainwinery.com/event/the-olde-loft-candle-making-class-smw
LOCATION:Shade Mountain Winery & Vineyards\, 16140 Route 104\, Middleburg\, PA\, 17842\, United States
END:VEVENT
BEGIN:VEVENT
DTSTART;TZID=UTC:20241012T100000
DTEND;TZID=UTC:20241012T170000
DTSTAMP:20260421T210413
CREATED:20240819T140528Z
LAST-MODIFIED:20240926T171452Z
UID:4947-1728727200-1728752400@shademountainwinery.com
SUMMARY:Annual Harvest Festival-Saturday
DESCRIPTION:Join us for our Annual Customer Appreciation Harvest Festival Weekend!As always we plan on having the vintner’s famous pig roast and soup available….music…..and of course wine!We plan on having our grape stompings at 1:00\, 2:00 & 3:00pm as in years past!T & D’s Cats of the World will be here 10am-1pm with a little critter to show off! \nKettle Korn by Kratzerville Boy Scouts Troup 441Music will be provided by The Pepper Street Band starting at 1:00 and going through 3:00pm sharp. We will have them perform outside behind the winery in our grassy area so please bring your own seating/blankets!In this grassy area\, we will have a tent in the back where wine by the glass and wine by the bottle can be purchased. The wine tent and back grounds will close at 4:00\, and we ask that you make your way out of this rear area at this time.We thank you for your loyalty….small businesses like our would be lost w/out you.Hope to see you here on October 12th! \nCelebrate harvest season at Shade Mountain Winery!
URL:https://shademountainwinery.com/event/annual-harvest-festival-saturday
LOCATION:Shade Mountain Winery & Vineyards\, 16140 Route 104\, Middleburg\, PA\, 17842\, United States
END:VEVENT
BEGIN:VEVENT
DTSTART;TZID=UTC:20241013T120000
DTEND;TZID=UTC:20241013T170000
DTSTAMP:20260421T210413
CREATED:20240819T141606Z
LAST-MODIFIED:20240926T171537Z
UID:4949-1728820800-1728838800@shademountainwinery.com
SUMMARY:Annual Harvest Festival - Sunday
DESCRIPTION:Join us for the second day of our Annual Harvest Festival!  We will have Kimbo and Chris Harp performing on the deck (weather permitting) from 1-3pm.  We will also have the Windy Wagon Food Truck on-site offering delectable dishes for you all to enjoy. \nCelebrate harvest season here at Shade Mountain Winery!
URL:https://shademountainwinery.com/event/annual-harvest-festival-sunday
LOCATION:Shade Mountain Winery & Vineyards\, 16140 Route 104\, Middleburg\, PA\, 17842\, United States
END:VEVENT
BEGIN:VEVENT
DTSTART;TZID=UTC:20241013T140000
DTEND;TZID=UTC:20241013T160000
DTSTAMP:20260421T210413
CREATED:20240917T190713Z
LAST-MODIFIED:20240917T190713Z
UID:4967-1728828000-1728835200@shademountainwinery.com
SUMMARY:Wine & Art in Riverside!
DESCRIPTION:Follow along with Gail Fox\, our local\, talented and friendly artist as she teaches you the fine art of canvas painting! Paint this beautiful canvas piece listed below all the while enjoying a glass of your favorite SM wine!\nThe class kicks off at 2:00pm…..price is $30/person and is worth every penny!\nCall the Riverside location to reserve your spot: 570-284-4311.\nGrab your friends\, motor over to Riverside and enjoy an afternoon of wine\, painting & laughs;) Hope to see you there!
URL:https://shademountainwinery.com/event/wine-art-in-riverside-12
LOCATION:Shade Mountain Winery-The Old Train Station\, 53 D & H Ave\, Riverside\, PA\, 17821\, United States
END:VEVENT
END:VCALENDAR