BEGIN:VCALENDAR
VERSION:2.0
PRODID:-//Shade Mountain Winery - ECPv6.15.17.1//NONSGML v1.0//EN
CALSCALE:GREGORIAN
METHOD:PUBLISH
X-ORIGINAL-URL:https://shademountainwinery.com
X-WR-CALDESC:Events for Shade Mountain Winery
REFRESH-INTERVAL;VALUE=DURATION:PT1H
X-Robots-Tag:noindex
X-PUBLISHED-TTL:PT1H
BEGIN:VTIMEZONE
TZID:UTC
BEGIN:STANDARD
TZOFFSETFROM:+0000
TZOFFSETTO:+0000
TZNAME:UTC
DTSTART:20240101T000000
END:STANDARD
END:VTIMEZONE
BEGIN:VEVENT
DTSTART;TZID=UTC:20250202T130000
DTEND;TZID=UTC:20250202T150000
DTSTAMP:20260421T114843
CREATED:20250103T170126Z
LAST-MODIFIED:20250103T213418Z
UID:5062-1738501200-1738508400@shademountainwinery.com
SUMMARY:Resin Glass Heart Workshop @ SMW Middleburg
DESCRIPTION:Register here in this event listing for this fabulous workshop hosted by Andrea of Farm Lane Crafts and Design 2.0!\nOn Sunday February 2nd (1:00pm)\, come to the winery and make a resin heart of YOUR STYLE with crushed glass on a white distressed 8×10 frame. Design it as you wish!\nFeel free to bring small trinkets to use as memorabilia\, but this not needed. Andrea will have shells\, sand and different shades of glass/stones/pebbles that are included in the workshop price of $45 (wine is not included in this price).\nYou will be able to take this craft home\, but it must lay flat for 24 hours to set. It will take up to 3 full days to completely cure. You have the option of bringing your own size gloves and a n95 mask. However\, Andrea will supply standard size gloves\, masks\, and aprons. A non- toxic smelling resin is used in this workshop\, but there are still risks associated as it is a chemical.\nYou are welcome to bring your own snacks. We will have wine by the glass and/or bottle and flights available for purchase to enjoy while crafting! Be sure to sip on something while you get creative crafting!\nNOTE: You may register up to 5 people with one registration form.
URL:https://shademountainwinery.com/event/resin-glass-heart-workshop-smw-middleburg
LOCATION:Shade Mountain Winery & Vineyards\, 16140 Route 104\, Middleburg\, PA\, 17842\, United States
END:VEVENT
BEGIN:VEVENT
DTSTART;TZID=UTC:20250202T140000
DTEND;TZID=UTC:20250202T160000
DTSTAMP:20260421T114843
CREATED:20241231T164532Z
LAST-MODIFIED:20241231T164532Z
UID:5054-1738504800-1738512000@shademountainwinery.com
SUMMARY:Wine & Art in Riverside!
DESCRIPTION:Follow along with Gail Fox\, our local\, talented and friendly artist as she teaches you the fine art of canvas painting! Paint a beautiful canvas piece all the while enjoying a glass of your favorite SM wine (included in the ticket price)!The class kicks off at 2:00pm…..price is $30/person and is worth every penny!Call the Riverside location to reserve your spot: 570-284-4311.Grab your friends\, motor over to Riverside and enjoy an afternoon of wine\, painting & laughs;) Hope to see you there!
URL:https://shademountainwinery.com/event/wine-art-in-riverside-13
LOCATION:Shade Mountain Winery-The Old Train Station\, 53 D & H Ave\, Riverside\, PA\, 17821\, United States
END:VEVENT
BEGIN:VEVENT
DTSTART;TZID=UTC:20250208T120000
DTEND;TZID=UTC:20250209T170000
DTSTAMP:20260421T114843
CREATED:20240110T183149Z
LAST-MODIFIED:20250113T202056Z
UID:4742-1739016000-1739120400@shademountainwinery.com
SUMMARY:Whoopie Pie & Wine Flights @ The Vineyard!
DESCRIPTION:Stop by the Winery in Middleburg for Whoopie Pie & Wine Flights! We will be pairing 5 of our wines with 5 fabulous Whoopie Pies made locally at Heimbach’s Country Store. The cost of the flight is $20 and reservations are not required.  Please note the flights will be available while supplies last.\nWe will also have plenty of gift baskets and other gift options to shower your beloved with…..and you can always fall back on wine\, as nothing says love like SMW Wine!\nThis event is being held at the Winery in Middleburg only.
URL:https://shademountainwinery.com/event/whoopie-pie-wine-flights-the-vineyard
LOCATION:Shade Mountain Winery & Vineyards\, 16140 Route 104\, Middleburg\, PA\, 17842\, United States
END:VEVENT
BEGIN:VEVENT
DTSTART;TZID=UTC:20250209T140000
DTEND;TZID=UTC:20250209T160000
DTSTAMP:20260421T114843
CREATED:20250114T182659Z
LAST-MODIFIED:20250203T200955Z
UID:5075-1739109600-1739116800@shademountainwinery.com
SUMMARY:Evergreen Garden Workshop @ RIVERSIDE!-CANCELLED
DESCRIPTION:THIS EVENT HAS BEEN CANCELLED due to lack of registrations\n\nOn Sunday\, February 9th at 2:00pm\, spend the afternoon at Shade Mountain Winery crafting and sipping on wine. The long winter is upon us. We are stuck indoors but we can bring the outdoors inside and have fresh scent of evergreen filling our home with peace. Come make an adorable evergreen garden centerpiece to decorate your house this winter. Bring the outside in and help get rid of the winter blues. Wine will be available for purchase at the venue.\nThe cost of the class is $35 and you can register here on this FB event listing or on SMW website. The class will take place in our cozy loft space in the Old Train Station! It’s a great way to spend a winter’s day….sipping wine and crafting!\nThe cost of the class is $35 and you can register here on this FB event listing or on SMW website. The class will take place in our cozy loft space in the Old Train Station! It’s a great way to spend a winter’s day….sipping wine and crafting!
URL:https://shademountainwinery.com/event/evergreen-garden-workshop-riverside
LOCATION:Shade Mountain Winery-The Old Train Station\, 53 D & H Ave\, Riverside\, PA\, 17821\, United States
END:VEVENT
BEGIN:VEVENT
DTSTART;TZID=UTC:20250215T120000
DTEND;TZID=UTC:20250216T163000
DTSTAMP:20260421T114843
CREATED:20250116T212738Z
LAST-MODIFIED:20250211T201454Z
UID:5079-1739620800-1739723400@shademountainwinery.com
SUMMARY:Valentine / Galentine Wine & Cheesecake Flights @ SMW!
DESCRIPTION:On Saturday or Sunday\, February 15th or 16th\, treat your Valentine or Galentine (s) to a Cheesecake & Wine flight here at SMW in Middleburg!  We are pairing 2 mini cheesecakes (crafted beautifully by Sweet Dreams Cheesecake Emporium out of Selinsgrove\, PA) with either 2 “dryer” wines or 2 “sweeter” wines.  We are also including one sparkling wine in the flight as well!  The cost of the flight is $16.  Pre-orders are required for the cheesecake and wine flights and can be done here. \nThe “dryer” wine flight includes: \nOur Three Witches’ Sparkling White Wine \nStrawberry Shortcake Cheesecake paired with our Award-winning Gewurztraminer (dry white) \nFudge Brownie Sundae Cheesecake paired with our Merlot (dry red) \nThe “sweeter” wine flight includes: \nCool Duck Sparkling Blush Wine \nStrawberry Shortcake Cheesecake paired with our Moscato (sweet white) \nFudge Brownie Sundae Cheesecake paired with our Rascal Red (sweet sangria\, red) \nLove the one you’re with this Valentine’s Day using SMW wine & Sweet Dreams cheesecakes! \nNo refunds.
URL:https://shademountainwinery.com/event/valentine-galentine-wine-cheesecake-flights-smw
LOCATION:Shade Mountain Winery & Vineyards\, 16140 Route 104\, Middleburg\, PA\, 17842\, United States
END:VEVENT
BEGIN:VEVENT
DTSTART;TZID=UTC:20250223T130000
DTEND;TZID=UTC:20250223T150000
DTSTAMP:20260421T114843
CREATED:20250109T160626Z
LAST-MODIFIED:20250109T160626Z
UID:5067-1740315600-1740322800@shademountainwinery.com
SUMMARY:The Olde Loft Candle Making Class @ SMW Middleburg!
DESCRIPTION:“Light” up your afternoon at Shade Mountain Winery & Vineyards by making candles under the tutelage of The Olde Loft candle crafters! The Team at The Olde Loft (Richard Road\, Middleburg) have taken on the craft of candle making and are looking forward to imparting their expertise on to you!\nOn Sunday\, February 23rd craft your own candles here at the winery by working through organized stations: 1.) scent bar/station that includes some of our classic and seasonal scents 2.) a vessel prep station 3.) a wax dispensing station and finally 4.) a pour station where your candles will be set.\nThe cost of the class is $30 and includes instruction and supplies (specially a 10 oz translucent tumbler champagne in color\, capped off with a trendy bamboo lid adorned with “The Olde Loft” logo).\nBe sure to stop at the bar and grab a tasting flight\, a glass or a bottle of wine to enjoy while you work (not included in the price of the ticket)! A little wine will surely assist in getting the creative juices flowing\nTickets can be purchased here on our website and FB page. The class is limited to 35 people\, so do not wait long to grab your tickets. We anticipate them going quickly as the Team from The Olde Loft is energized and has a wonderful afternoon planned for you.\nHope to see you on Sunday\, February 23rd!
URL:https://shademountainwinery.com/event/the-olde-loft-candle-making-class-smw-middleburg
LOCATION:Shade Mountain Winery & Vineyards\, 16140 Route 104\, Middleburg\, PA\, 17842\, United States
END:VEVENT
END:VCALENDAR