BEGIN:VCALENDAR
VERSION:2.0
PRODID:-//Shade Mountain Winery - ECPv6.15.17.1//NONSGML v1.0//EN
CALSCALE:GREGORIAN
METHOD:PUBLISH
X-ORIGINAL-URL:https://shademountainwinery.com
X-WR-CALDESC:Events for Shade Mountain Winery
REFRESH-INTERVAL;VALUE=DURATION:PT1H
X-Robots-Tag:noindex
X-PUBLISHED-TTL:PT1H
BEGIN:VTIMEZONE
TZID:UTC
BEGIN:STANDARD
TZOFFSETFROM:+0000
TZOFFSETTO:+0000
TZNAME:UTC
DTSTART:20240101T000000
END:STANDARD
END:VTIMEZONE
BEGIN:VTIMEZONE
TZID:America/New_York
BEGIN:DAYLIGHT
TZOFFSETFROM:-0500
TZOFFSETTO:-0400
TZNAME:EDT
DTSTART:20240310T070000
END:DAYLIGHT
BEGIN:STANDARD
TZOFFSETFROM:-0400
TZOFFSETTO:-0500
TZNAME:EST
DTSTART:20241103T060000
END:STANDARD
BEGIN:DAYLIGHT
TZOFFSETFROM:-0500
TZOFFSETTO:-0400
TZNAME:EDT
DTSTART:20250309T070000
END:DAYLIGHT
BEGIN:STANDARD
TZOFFSETFROM:-0400
TZOFFSETTO:-0500
TZNAME:EST
DTSTART:20251102T060000
END:STANDARD
BEGIN:DAYLIGHT
TZOFFSETFROM:-0500
TZOFFSETTO:-0400
TZNAME:EDT
DTSTART:20260308T070000
END:DAYLIGHT
BEGIN:STANDARD
TZOFFSETFROM:-0400
TZOFFSETTO:-0500
TZNAME:EST
DTSTART:20261101T060000
END:STANDARD
END:VTIMEZONE
BEGIN:VEVENT
DTSTART;TZID=UTC:20250302T140000
DTEND;TZID=UTC:20250302T160000
DTSTAMP:20260421T132637
CREATED:20241104T170220Z
LAST-MODIFIED:20250203T200418Z
UID:4995-1740924000-1740931200@shademountainwinery.com
SUMMARY:Wine & Paint in Riverside!
DESCRIPTION:Follow along with Gail Fox\, our local\, talented and friendly artist as she teaches you the fine art of canvas painting! Choose one of the three canvas options (see cover photo listing the options)\, and paint a beautiful piece all the while enjoying a glass of your favorite SM wine (included in the ticket price)!The class kicks off at 2:00pm…..price is $30/person and is worth every penny!Call the Riverside location to reserve your spot: 570-284-4311.Grab your friends\, motor over to Riverside and enjoy an afternoon of wine\, painting & laughs;) Hope to see you there!
URL:https://shademountainwinery.com/event/wine-paint-in-riverside
LOCATION:Shade Mountain Winery-The Old Train Station\, 53 D & H Ave\, Riverside\, PA\, 17821\, United States
END:VEVENT
BEGIN:VEVENT
DTSTART;TZID=UTC:20250309T130000
DTEND;TZID=UTC:20250309T150000
DTSTAMP:20260421T132637
CREATED:20250226T132804Z
LAST-MODIFIED:20250226T170458Z
UID:5106-1741525200-1741532400@shademountainwinery.com
SUMMARY:Grapevine Wreath "Krafting Klass" with Keith Phelps!
DESCRIPTION:On Sunday\, March 9th\, “Kraft” your own grapevine wreath with local legendary talent\, Keith Phelps (Inspired Designs by Keith Phelps) at Shade Mountain Winery & Vineyards! Keith will offer wreath-making instruction using our very own vine clippings taken directly from our vineyard. Keith is often featured on Home and Backyard\, so you may already be familiar with his crafting talent;) He truly is a gifted instructor!\nHe’s excited to use our fresh vine clippings in this fabulous afternoon of crafting and wine! The cost of the class is $25 and includes instruction and supplies….a true bargain for Keith and his talents:)\nBe sure to stop at the bar and grab a tasting flight\, a glass or a bottle of wine to enjoy while you work (not included in the price of the ticket)! A little wine will surely assist in getting the creative juices flowing?\nTickets can be purchased here on our website and FB page. The class is limited\, so do not wait long to grab your tickets. We anticipate them going quickly!\nHope to see you on Sunday March 9th!
URL:https://shademountainwinery.com/event/grapevine-wreath-krafting-klass-with-keith-phelps
LOCATION:Shade Mountain Winery & Vineyards\, 16140 Route 104\, Middleburg\, PA\, 17842\, United States
END:VEVENT
BEGIN:VEVENT
DTSTART;TZID=UTC:20250316T130000
DTEND;TZID=UTC:20250316T150000
DTSTAMP:20260421T132637
CREATED:20250213T173550Z
LAST-MODIFIED:20250213T173550Z
UID:5091-1742130000-1742137200@shademountainwinery.com
SUMMARY:Beekeeping\, Honey & Mead Workshop @ SMW!
DESCRIPTION:Learn all there is to learn about the ancient crafts of beekeeping\, honey production and mead making!\nOur winery in Middleburg will play host to the beekeeping and honey producing GURU: Hackenberg Apiaries (Lewisburg\, PA). They have been in the business for 63 years (WOW!) and know all there is to know about beekeeping and honey production. They have been featured in TIME magazine as the first beekeeper to witness Colony Collapse Disorder in bee colonies.\nThey will impart their wisdom and offer instruction on what goes into building a beehive and the subsequent honey production. They will also offer food samples (made using their honey) and recipes to take home!\nOur very own\, Karl Zimmerman\, will be on hand to offer instruction on Mead-making\, as our Bad Moose Mead is made from Hackenberg’s very own Orange Blossom honey. So this workshop is NOT to be missed!\nCost of ticket is $20 and includes interactive instruction\, food & wine samples. They can be purchased here.  Enjoy this very informative\, FUN and relaxing afternoon in a beautiful setting overlooking Shade Mountain vineyards situated in rural America. Spots are limited! RSVP by March 12th online or call the winery at 570-837-3644.
URL:https://shademountainwinery.com/event/beekeeping-honey-mead-workshop-smw
LOCATION:Shade Mountain Winery & Vineyards\, 16140 Route 104\, Middleburg\, PA\, 17842\, United States
END:VEVENT
BEGIN:VEVENT
DTSTART;TZID=UTC:20250316T140000
DTEND;TZID=UTC:20250316T160000
DTSTAMP:20260421T132637
CREATED:20250217T210841Z
LAST-MODIFIED:20250224T150637Z
UID:5095-1742133600-1742140800@shademountainwinery.com
SUMMARY:Paint & Sip: Pottery Pop-Up at Shade Mountain Winery (Danville)
DESCRIPTION:Get ready to unleash your inner artist (and enjoy some delicious wine!) at our pottery painting pop-up at Shade Mountain Winery in Danville! We’ve got a fantastic lineup of pottery pieces just waiting for your personal touch: classic tumblers with handles\, sleek modern tumblers\, adorable cactus ring holders & dishes\, and even a pair of flower vases to brighten your day.\n\nShade Mountain Winery will have wine available for purchase to fuel your creative juices. All painting supplies are included\, so just bring your good vibes. Your fabulous creations will be ready for pick-up the following week. Don’t miss out on this perfect blend of art\, wine\, and good times!  Register online HERE
URL:https://shademountainwinery.com/event/paint-sip-pottery-pop-up-at-shade-mountain-winery-danville
LOCATION:Shade Mountain Winery-The Old Train Station\, 53 D & H Ave\, Riverside\, PA\, 17821\, United States
END:VEVENT
BEGIN:VEVENT
DTSTART;TZID=America/New_York:20250330T120000
DTEND;TZID=America/New_York:20250330T160000
DTSTAMP:20260421T132637
CREATED:20230213T134655Z
LAST-MODIFIED:20250318T182032Z
UID:3624-1743336000-1743350400@shademountainwinery.com
SUMMARY:Walk through the Vines @ Shade Mountain Winery Middleburg
DESCRIPTION:On Sunday\, March 30th\, make a trip to Shade Mountain Winery & Vineyards in Middleburg for a Walk through the Vines! Bring friends and family and enjoy Spring in the Vineyard! We will have a pathway clearly marked for you….so follow the arrows through the vines! A SMW logo glass is included in the price of the ticket ($10.00) as is a glass of your favorite SMW wine! Feel free to enjoy the glass of wine as you walk….or enjoy it when you return to the winery. The winery opens at noon…..so feel free to start your walk then or whenever you please!\nAlso included in the Vineyard walk is some time w/ the Vintner! He will be placing himself amongst the vineyard…so as you walk\, look for him and ask him many questions about his vineyard\, his grapes and his winemaking! He is looking forward to speaking with you and imparting his wisdom;)\n\nTickets for the walk can be purchased online here.\nCall the winery with any questions: 570-837-3644. Come celebrate Spring here at Shade Mountain Winery….support and enjoy the beauty of your local farms/businesses!!\n\n\nIn the case of bad weather\, we will cancel the event and reimburse your tickets.\n\n\n\n 
URL:https://shademountainwinery.com/event/3624
LOCATION:Shade Mountain Winery & Vineyards\, 16140 Route 104\, Middleburg\, PA\, 17842\, United States
END:VEVENT
END:VCALENDAR