BEGIN:VCALENDAR
VERSION:2.0
PRODID:-//Shade Mountain Winery - ECPv6.15.17.1//NONSGML v1.0//EN
CALSCALE:GREGORIAN
METHOD:PUBLISH
X-ORIGINAL-URL:https://shademountainwinery.com
X-WR-CALDESC:Events for Shade Mountain Winery
REFRESH-INTERVAL;VALUE=DURATION:PT1H
X-Robots-Tag:noindex
X-PUBLISHED-TTL:PT1H
BEGIN:VTIMEZONE
TZID:UTC
BEGIN:STANDARD
TZOFFSETFROM:+0000
TZOFFSETTO:+0000
TZNAME:UTC
DTSTART:20240101T000000
END:STANDARD
END:VTIMEZONE
BEGIN:VTIMEZONE
TZID:America/New_York
BEGIN:DAYLIGHT
TZOFFSETFROM:-0500
TZOFFSETTO:-0400
TZNAME:EDT
DTSTART:20240310T070000
END:DAYLIGHT
BEGIN:STANDARD
TZOFFSETFROM:-0400
TZOFFSETTO:-0500
TZNAME:EST
DTSTART:20241103T060000
END:STANDARD
BEGIN:DAYLIGHT
TZOFFSETFROM:-0500
TZOFFSETTO:-0400
TZNAME:EDT
DTSTART:20250309T070000
END:DAYLIGHT
BEGIN:STANDARD
TZOFFSETFROM:-0400
TZOFFSETTO:-0500
TZNAME:EST
DTSTART:20251102T060000
END:STANDARD
BEGIN:DAYLIGHT
TZOFFSETFROM:-0500
TZOFFSETTO:-0400
TZNAME:EDT
DTSTART:20260308T070000
END:DAYLIGHT
BEGIN:STANDARD
TZOFFSETFROM:-0400
TZOFFSETTO:-0500
TZNAME:EST
DTSTART:20261101T060000
END:STANDARD
END:VTIMEZONE
BEGIN:VEVENT
DTSTART;TZID=UTC:20250504T130000
DTEND;TZID=UTC:20250504T150000
DTSTAMP:20260421T164056
CREATED:20250407T182949Z
LAST-MODIFIED:20250409T132339Z
UID:5126-1746363600-1746370800@shademountainwinery.com
SUMMARY:Spring Flower Workshop @ SMW!
DESCRIPTION:Join Melody Folk (of Hilly Springs Flower Farm) for a fun-filled Spring Flower Workshop at Shade Mountain Winery (Middleburg)!  Under the knowledgeable expertise of Melody\, you will plant a beautiful spring planter featuring fresh flowers from her flower farm!  Get your hands dirty and dig on in!   The cost of the class is $40 and includes the tools\, supplies and flowers that you will need for the workshop.  If you have your own set of gloves\, however\, feel free to bring them along. \nThe class kicks off at 1:00pm so be and ready to craft at that time!  Before the class stop by the bar at the winery to grab tasting flight\, or a glass/bottle of your favorite SMW wine (not included in the price of the ticket). \nLooking for a way to show Mom love this year?  Bring her along and spend the afternoon planting/wining together;)  You can also craft and give it as a gift!  Nothing says love like beautiful fresh flowers! \nTickets can be purchased online here. \nWe hope you will join us for a fabulous afternoon of fresh flowers and wonderful wine!
URL:https://shademountainwinery.com/event/spring-flower-workshop-smw
LOCATION:Shade Mountain Winery & Vineyards\, 16140 Route 104\, Middleburg\, PA\, 17842\, United States
END:VEVENT
BEGIN:VEVENT
DTSTART;TZID=America/New_York:20250510T110000
DTEND;TZID=America/New_York:20250510T173000
DTSTAMP:20260421T164056
CREATED:20230221T152526Z
LAST-MODIFIED:20250407T194511Z
UID:3648-1746874800-1746898200@shademountainwinery.com
SUMMARY:Mother's Day in Riverside/Danville!
DESCRIPTION:On Saturday\, May 10th\, take good care of Mom on her special day….stop by the Train Station in Riverside/Danville w/ Mom on your arm and order her a MIMOSA. We will three different Mimosas (each featuring a different sparkling wine: 1.) Three Witches Sparkling White\, 2.) Cool Duck & 3.) Ginger Owl) from which to choose! \nShow Mom love….through sparkling libations this year:) Hope to see you in Riverside!
URL:https://shademountainwinery.com/event/mothers-day-in-riverside
LOCATION:Shade Mountain Winery-The Old Train Station\, 53 D & H Ave\, Riverside\, PA\, 17821\, United States
END:VEVENT
END:VCALENDAR